Workbook
Name 愛知県: 【参考】数式用2!$D$993:$D$1046
Name 愛媛県: 【参考】数式用2!$D$1422:$D$1441
Name 茨城県: 【参考】数式用2!$D$415:$D$458
Name 岡山県: 【参考】数式用2!$D$1312:$D$1338
Name 沖縄県: 【参考】数式用2!$D$1709:$D$1749
Name 加算対象_4_5: 【参考】数式用!$S$4:$S$7
Name 加算対象_6: 【参考】数式用!$S$11:$S$16
Name 加算対象外_4_5: 【参考】数式用!$T$4:$T$7
Name 加算対象外_6: 【参考】数式用!$T$11:$T$16
Name 介護医療院R8: 【参考】数式用!$AO$38:$AR$38
Name 介護予防ケアマネジメントR8: 【参考】数式用!$AO$50:$AR$50
Name 介護予防支援R8: 【参考】数式用!$AO$56:$AR$56
Name 介護予防小規模多機能型居宅介護_短期利用型_R8: 【参考】数式用!$AO$22:$AT$22
Name 介護予防小規模多機能型居宅介護R8: 【参考】数式用!$AO$21:$AT$21
Name 介護予防短期入所生活介護R8: 【参考】数式用!$AO$32:$AT$32
Name 介護予防短期入所療養介護_医療院_R8: 【参考】数式用!$AO$40:$AT$40
Name 介護予防短期入所療養介護_病院等_R8: 【参考】数式用!$AO$37:$AT$37
Name 介護予防短期入所療養介護_老健_R8: 【参考】数式用!$AO$35:$AT$35
Name 介護予防通所リハビリテーションR8: 【参考】数式用!$AO$11:$AR$11
Name 介護予防特定施設入居者生活介護R8: 【参考】数式用!$AO$14:$AR$14
Name 介護予防認知症対応型共同生活介護_短期利用型_R8: 【参考】数式用!$AO$28:$AR$28
Name 介護予防認知症対応型共同生活介護R8: 【参考】数式用!$AO$27:$AR$27
Name 介護予防認知症対応型通所介護R8: 【参考】数式用!$AO$18:$AR$18
Name 介護予防訪問リハビリテーションR8: 【参考】数式用!$AO$54:$AR$54
Name 介護予防訪問看護R8: 【参考】数式用!$AO$52:$AR$52
Name 介護予防訪問入浴介護R8: 【参考】数式用!$AO$7:$AR$7
Name 介護老人福祉施設R8: 【参考】数式用!$AO$29:$AR$29
Name 介護老人保健施設R8: 【参考】数式用!$AO$33:$AR$33
Name 看護小規模多機能型居宅介護_短期利用型_R8: 【参考】数式用!$AO$24:$AT$24
Name 看護小規模多機能型居宅介護R8: 【参考】数式用!$AO$23:$AT$23
Name 岩手県: 【参考】数式用2!$D$228:$D$260
Name 岐阜県: 【参考】数式用2!$D$916:$D$957
Name 宮崎県: 【参考】数式用2!$D$1640:$D$1665
Name 宮城県: 【参考】数式用2!$D$261:$D$295
Name 居宅介護支援R8: 【参考】数式用!$AO$55:$AR$55
Name 京都府: 【参考】数式用2!$D$1095:$D$1120
Name 熊本県: 【参考】数式用2!$D$1577:$D$1621
Name 群馬県: 【参考】数式用2!$D$484:$D$518
Name 広島県: 【参考】数式用2!$D$1339:$D$1361
Name 香川県: 【参考】数式用2!$D$1405:$D$1421
Name 高知県: 【参考】数式用2!$D$1442:$D$1475
Name 佐賀県: 【参考】数式用2!$D$1536:$D$1555
Name 埼玉県: 【参考】数式用2!$D$519:$D$581
Name 三重県: 【参考】数式用2!$D$1047:$D$1075
Name 山形県: 【参考】数式用2!$D$321:$D$355
Name 山口県: 【参考】数式用2!$D$1362:$D$1380
Name 山梨県: 【参考】数式用2!$D$812:$D$838
Name 滋賀県: 【参考】数式用2!$D$1076:$D$1094
Name 鹿児島県: 【参考】数式用2!$D$1666:$D$1708
Name 秋田県: 【参考】数式用2!$D$296:$D$320
Name 小規模多機能型居宅介護_短期利用型_R8: 【参考】数式用!$AO$20:$AT$20
Name 小規模多機能型居宅介護R8: 【参考】数式用!$AO$19:$AT$19
Name 新潟県: 【参考】数式用2!$D$731:$D$760
Name 神奈川県: 【参考】数式用2!$D$698:$D$730
Name 青森県: 【参考】数式用2!$D$188:$D$227
Name 静岡県: 【参考】数式用2!$D$958:$D$992
Name 石川県: 【参考】数式用2!$D$776:$D$794
Name 千葉県: 【参考】数式用2!$D$582:$D$635
Name 大阪府: 【参考】数式用2!$D$1121:$D$1163
Name 大分県: 【参考】数式用2!$D$1622:$D$1639

Sheet 基本情報入力シート
A1: 実績報告書（処遇改善加算）作成用 基本情報入力シート | AC1: ↓隠し列
A3: ●はじめに本シート（基本情報入力シート）の黄色セルに入力することで、介護職員等処遇改善加算（以下、処遇改善加算）の対象事業所等に関する 基本的な情報が、各様式に自動的に転記されます。
A4: 【注意】本シートは様式作成用のため、本実績報告書の提出を紙で行う場合、本シートの提出は不要です。ただし、自治体に電子媒体で提出する場合は、 本シートを削除せずそのまま提出してください。
A6: ●「別紙様式3-1」を完成させるには、「基本情報入力シート」「別紙様式3-2」から転記される情報が必要です。まずはこれらのシートを完成させてください。
A14: ●「別紙様式3－1」に記載する処遇改善加算による賃金改善の所要額について、具体的な算出方法は問いませんが、各職員に対し、処遇改善加算を原資として行った 賃金改善額を積み上げる（足し上げる）などの適切な方法により算出してください。 また、「賃金額」を記入する欄には、基本給、手当、賞与等（退職手当を除く。）を含む金額を記入してください。
A16: １ 提出先に関する情報
B17: 処遇改善加算の届出に係る提出先（指定権者）の名称を入力してください。
B18: 提出先の指定権者名
A20: ２ 基本情報
B21: 下表に必要事項を入力してください。記入内容が別紙様式3-1及び3-2に反映されます。
B22: 法人名 | C22: フリガナ
C23: 名称 | AC23: 〒結合
B24: 法人住所 | C24: 〒 | P24: － | AC24: =CONCATENATE(M24,N24,O24,P24,Q24,R24,S24,T24) -> －
C25: 住所１（番地・住居番号まで）
C26: 住所２（建物名等）
B27: 法人代表者 | C27: 職名
C28: 氏名
B29: 書類作成 担当者 | C29: フリガナ
C30: 氏名
B31: 連絡先 | C31: 電話番号
C32: E-mail
A34: ３ 処遇改善加算対象事業所に関する情報
B35: 下表に必要事項を入力してください。記入内容が別紙様式3-2に反映されます。
A36: 介護予防や短期利用型サービス含め、記入漏れがないことを確認しました。 | Z36: =IF(M23="","",IF(AND(K38="✓",K39="✓",K40="✓",K41="✓"),"○","×"))
A37: （記入済みのサービスの事業所数）
A38: 介護予防サービスの事業所数 | H38: =COUNTIF($Y$45:$Y$144,"*介護予防*") -> 0 | J38: 件
A39: 短期利用型サービスの事業所数 | H39: =COUNTIF($Y$45:$Y$144,"*短期利用型*") -> 0 | J39: 件
A40: 総合事業サービスの事業所数 | H40: =COUNTIF($Y$45:$Y$144,"*独自*")+COUNTIF($Y$45:$Y$144,"介護予防ケアマネジメント") -> 0 | J40: 件
A41: その他サービスの事業所数 | H41: =COUNTIF(AC45:AC144,"その他") -> 0 | J41: 件
B43: 通し番号 | C43: 介護保険事業所番号 | M43: 指定権者名 | R43: 事業所の所在地 | X43: 事業所名 | Y43: サービス名 | Z43: サービスコード
R44: 都道府県 | W44: 市区町村
B45: 1 | Z45: =IFERROR(VLOOKUP(Y45,【参考】数式用!$A$3:$B$58, 2, FALSE), "") | AC45: =VLOOKUP(Y45,【参考】数式用!$A$3:$O$58,15,FALSE) -> #N/A
B46: =B45+1 -> 2 | Z46: =IFERROR(VLOOKUP(Y46,【参考】数式用!$A$3:$B$58, 2, FALSE), "") | AC46: =VLOOKUP(Y46,【参考】数式用!$A$3:$O$58,15,FALSE) -> #N/A
B47: =B46+1 -> 3 | Z47: =IFERROR(VLOOKUP(Y47,【参考】数式用!$A$3:$B$58, 2, FALSE), "") | AC47: =VLOOKUP(Y47,【参考】数式用!$A$3:$O$58,15,FALSE) -> #N/A
B48: =B47+1 -> 4 | Z48: =IFERROR(VLOOKUP(Y48,【参考】数式用!$A$3:$B$58, 2, FALSE), "") | AC48: =VLOOKUP(Y48,【参考】数式用!$A$3:$O$58,15,FALSE) -> #N/A
B49: =B48+1 -> 5 | Z49: =IFERROR(VLOOKUP(Y49,【参考】数式用!$A$3:$B$58, 2, FALSE), "") | AC49: =VLOOKUP(Y49,【参考】数式用!$A$3:$O$58,15,FALSE) -> #N/A
B50: =B49+1 -> 6 | Z50: =IFERROR(VLOOKUP(Y50,【参考】数式用!$A$3:$B$58, 2, FALSE), "") | AC50: =VLOOKUP(Y50,【参考】数式用!$A$3:$O$58,15,FALSE) -> #N/A
B51: =B50+1 -> 7 | Z51: =IFERROR(VLOOKUP(Y51,【参考】数式用!$A$3:$B$58, 2, FALSE), "") | AC51: =VLOOKUP(Y51,【参考】数式用!$A$3:$O$58,15,FALSE) -> #N/A
B52: =B51+1 -> 8 | Z52: =IFERROR(VLOOKUP(Y52,【参考】数式用!$A$3:$B$58, 2, FALSE), "") | AC52: =VLOOKUP(Y52,【参考】数式用!$A$3:$O$58,15,FALSE) -> #N/A
B53: =B52+1 -> 9 | Z53: =IFERROR(VLOOKUP(Y53,【参考】数式用!$A$3:$B$58, 2, FALSE), "") | AC53: =VLOOKUP(Y53,【参考】数式用!$A$3:$O$58,15,FALSE) -> #N/A
B54: =B53+1 -> 10 | Z54: =IFERROR(VLOOKUP(Y54,【参考】数式用!$A$3:$B$58, 2, FALSE), "") | AC54: =VLOOKUP(Y54,【参考】数式用!$A$3:$O$58,15,FALSE) -> #N/A
B55: =B54+1 -> 11 | Z55: =IFERROR(VLOOKUP(Y55,【参考】数式用!$A$3:$B$58, 2, FALSE), "") | AC55: =VLOOKUP(Y55,【参考】数式用!$A$3:$O$58,15,FALSE) -> #N/A
B56: =B55+1 -> 12 | Z56: =IFERROR(VLOOKUP(Y56,【参考】数式用!$A$3:$B$58, 2, FALSE), "") | AC56: =VLOOKUP(Y56,【参考】数式用!$A$3:$O$58,15,FALSE) -> #N/A
B57: =B56+1 -> 13 | Z57: =IFERROR(VLOOKUP(Y57,【参考】数式用!$A$3:$B$58, 2, FALSE), "") | AC57: =VLOOKUP(Y57,【参考】数式用!$A$3:$O$58,15,FALSE) -> #N/A
... B144: =B143+1 -> 100 | Z144: =IFERROR(VLOOKUP(Y144,【参考】数式用!$A$3:$B$58, 2, FALSE), "") | AC144: =VLOOKUP(Y144,【参考】数式用!$A$3:$O$58,15,FALSE) -> #N/A

Sheet 別紙様式3-1（処遇改善加算　総括表）
B1: 別紙様式３－１ | Z1: 提出先 | AD1: =IF(基本情報入力シート!G18="","",基本情報入力シート!G18)
B3: 介護職員等処遇改善加算 実績報告書（令和８年度）
B5: １ 基本情報
B6: フリガナ | H6: =IF(基本情報入力シート!M22="","",基本情報入力シート!M22)
B7: 法人名 | H7: =IF(基本情報入力シート!M23="","",基本情報入力シート!M23)
B8: 法人所在地 | H8: 〒 | I8: =IF(基本情報入力シート!AC24="－","",基本情報入力シート!AC24)
H9: =IF(基本情報入力シート!M25="","",基本情報入力シート!M25)
H10: =IF(基本情報入力シート!M26="","",基本情報入力シート!M26)
B11: フリガナ | H11: =IF(基本情報入力シート!M29="","",基本情報入力シート!M29)
B12: 書類作成担当者 | H12: =IF(基本情報入力シート!M30="","",基本情報入力シート!M30)
B13: 連絡先 | H13: 電話番号 | L13: =IF(基本情報入力シート!M31="","",基本情報入力シート!M31) | V13: E-mail | Z13: =IF(基本情報入力シート!M32="","",基本情報入力シート!M32)
B15: ２ 実績報告について
B16: （１）加算額以上の賃金改善について（全体）
B17: 算定した加算の合計
B18: ① | C18: 令和８年度の加算額 | W18: ='別紙様式3-2（処遇改善加算 個票）'!N5 -> 0 | AC18: 円 | AD18: ← | AE18: =IF(H7="", "", IFERROR(IF(W19>=W18,"○","×"),"")) | AQ18: ！②賃金改善額 (b) が ①加算額 (a) を下回っています。
B19: ② | C19: 令和８年度の賃金改善額 （①の額以上となること。介護分野の職員の賃上げ・職場環境改善支援事業から賃金に充てた額を除く。） | AC19: 円 | AD19: ←
B20: 【記入上の注意】
B21: ・ | C21: (b)には、処遇改善加算の算定により実施する介護職員の賃金改善の額を計算し、記入すること。その際、加算による賃金改善を行った場合の法定福利費等の事業主負担の増加分を含めることができる。
B23: （２）加算以外の部分で賃金水準を下げないことについて
B24: ① | C24: 令和８年度の加算の影響を除いた賃金額 | Q24: =Q25-Q26-Q27 -> 0 | W24: 円 | X24: ← | Y24: =IF(H7="", "", IF(Q28="","",IF(Q24="","",IF(Q24>=Q28,"○","×")))) | AQ24: ！この欄が「×」の場合、加算以外の部分で賃金水準が引き下げられています。この欄が「×」のまま提出する場合には、別紙様式５「特別な事情に係る届出書」を合わせて提出してください。 ※「処遇改善加算等による賃金改善以外の部分で賃金水準を引き下げない」とは、令和８年度と令和７年度の加算等を除いた賃金総額を比較した上で、当該賃金総額が引き下がっていないことをいいます。 具体的には、「令和８年度の賃金の総額（d）」から「令和８年度の賃金改善額(e)」及び「介護分野の職員の賃上げ・職場環境改善等事業から賃金に充てた額(f)」を除いた額（c = d - e - f）と、「令和７年度の賃金の総額(h)」から令和７年度の各加算額、補助金額及び独自の賃金改善額 (i + j + k + l) 」を除いた額 {g = h - (i + j + k + l)} を比較した上で、加算等の影響を除いた賃金額の水準を引き下げないことをいいます。
C25: （ア）令和８年度の賃金の総額 | W25: 円
C26: （イ）令和８年度の賃金改善額（再掲） | Q26: =W19 -> 0 | W26: 円
C27: （ウ）介護分野の職員の賃上げ・職場環境改善等事業から 賃金に充てた額（令和８年度に賃金改善を行った場合） | W27: 円
B28: ② | C28: 令和７年度の加算及び独自の賃金改善の影響を除いた賃金額（①の額は②の額を下回らないこと） | Q28: =Q29-Q30-Q31-Q32-Q33 -> 0 | W28: 円 | X28: ←
C29: (ア)令和７年度の賃金の総額 | W29: 円
C30: (イ)令和７年度の処遇改善加算の総額 | W30: 円
C31: (ウ）介護人材確保・職場環境改善等事業の補助額のうち、 人件費改善に充てた額 | W31: 円
C32: (エ）介護分野の職員の賃上げ・職場環境改善等事業から 賃金に充てた額（令和７年度に賃金改善を行った場合） | W32: 円
C33: (オ)令和７年度の各介護サービス事業者等の 独自の賃金改善額 | W33: 円
B35: 【記入上の注意】
B36: ・ | C36: (h) には、職員構成が変わった等の事由により、例えば、本年度に入職（退職）した職員と同等の賃金水準の職員が前年度から在籍していた（いなかった）ものと仮定して計算するなどの方法により、今年度との比較に適した値に修正することが可能である。
B37: ・ | C37: (i)は、国民健康保険団体連合会から送付される「介護職員処遇改善加算等総額のお知らせ」及び「介護職員処遇改善加算等内訳のお知らせ」に基づいて記入すること。(j)並びに(f)及び（k)は、国民健康保険団体連合会から送付される「介護人材確保・職場環境改善等事業支払額通知書」等に基づいて記載すること。
B38: ・ | C38: (l)の独自の賃金改善額とは、令和７年度における独自の賃金改善分（初めて処遇改善加算を取得した年度以降に新たに行ったものに限る。旧３加算・処遇改善加算そのものの配分を除く。）をいうものであり、処遇改善加算等の加算額を超えて賃金改善を行った場合にはその金額も含む。(l)に計上する金額がある場合には、必ず「２（４） 令和７年度の独自の賃金改善（処遇改善加算等の配分以外の独自の賃金額）」欄に支給額、方法等の具体的な賃金改善の内容を記載すること。
B39: ・ | C39: なお、(d)及び(h)には、令和８年度から新たに処遇改善加算を算定する事業所も含めた、処遇改善加算を算定するサービス事業所における賃金総額を記入すること。
B40: （３）令和７年度と比較して増加した令和８年度の加算額以上の新たな賃金改善額
C41: 令和７年度と比較して増加した令和８年度の加算額以上の新たな賃金改善額 | W41: =(Q25-Q29)-(W18-Q30) -> 0 | AC41: 円 | AD41: ← | AE41: =IF(H7="", "", IF(W41="","",IF(W41="","",IF(W41>=0,"○","×"))))
B43: （４）令和７年度の独自の賃金改善（処遇改善加算等の配分以外の独自の賃金額）
B44: ・ | C44: ２（2) ②(オ)の「令和７年度の各介護サービス事業者等の独自の賃金改善額」に計上する場合は記載すること。
B45: 独自の賃金改善の具体的な取組内容 | AQ45: ！「独自の賃金改善の具体的な取組内容」及び「独自の賃金改善額の算定根拠」を記載してください。
B46: 独自の賃金改善額の算定根拠
B48: ３ 介護職員等処遇改善加算の要件について
B49: （１）月額賃金改善要件（処遇改善加算Ⅳの１/２以上の月額賃金改善） | AM49: 処遇改善加算Ⅰ～Ⅳ | AN49: =COUNTIF('別紙様式3-2（処遇改善加算 個票）'!O:O,"処遇改善加算Ⅰ")+COUNTIF('別紙様式3-2（処遇改善加算 個票）'!O:O,"処遇改善加算Ⅱ")+COUNTIF('別紙様式3-2（処遇改善加算 個票）'!O:O,"処遇改善加算Ⅲ")+COUNTIF('別紙様式3-2（処遇改善加算 個票）'!O:O,"処遇改善加算Ⅳ")+COUNTIF('別紙様式3-2（処遇改善加算 個票）'!V:V,"処遇改善加算Ⅰイ")+COUNTIF('別紙様式3-2（処遇改善加算 個票）'!V:V,"処遇改善加算Ⅰロ")+COUNTIF('別紙様式3-2（処遇改善加算 個票）'!V:V,"処遇改善加算Ⅱイ")+COUNTIF('別紙様式3-2（処遇改善加算 個票）'!V:V,"処遇改善加算Ⅱロ")+COUNTIF('別紙様式3-2（処遇改善加算 個票）'!V:V,"処遇改善加算Ⅲ")+COUNTIF('別紙様式3-2（処遇改善加算 個票）'!V:V,"処遇改善加算Ⅳ") -> 0
B50: すべての事業所において要件を満たす。（別紙様式３－２から転記） | AK50: =IF(H7="", "", IF(AN49=AN53, "○", "×")) | AM50: 処遇改善加算Ⅰ～Ⅲ | AN50: =$AN$49-(COUNTIF('別紙様式3-2（処遇改善加算 個票）'!O:O,"処遇改善加算Ⅳ")+COUNTIF('別紙様式3-2（処遇改善加算 個票）'!V:V, "処遇改善加算Ⅳ")) -> 0
B51: ① 処遇改善加算Ⅳ相当の加算額の１/２ | T51: ='別紙様式3-2（処遇改善加算 個票）'!N6 -> 0 | Y51: 円 | AM51: 処遇改善加算Ⅰ～Ⅱ | AN51: =AN50-(COUNTIF('別紙様式3-2（処遇改善加算 個票）'!O:O,"処遇改善加算Ⅲ")+COUNTIF('別紙様式3-2（処遇改善加算 個票）'!V:V, "処遇改善加算Ⅲ")) -> 0
B52: ② 処遇改善加算による賃金改善額のうち、月額賃金改善による額 （①の額以上となること） | Y52: 円 | Z52: ← | AA52: =IF(H7="", "", IF(T52>=T51, "○", "×")) | AM52: 処遇改善加算Ⅰ | AN52: =AN51-(COUNTIF('別紙様式3-2（処遇改善加算 個票）'!O:O,"処遇改善加算Ⅱ")+COUNTIF('別紙様式3-2（処遇改善加算 個票）'!V:V, "処遇改善加算Ⅱ")) -> 0
AM53: 月額賃金改善要件Ⅰを満たしている事業所数 | AN53: =COUNTIF('別紙様式3-2（処遇改善加算 個票）'!R14:R113, "○")+COUNTIF('別紙様式3-2（処遇改善加算 個票）'!Y14:Y113, "○") -> 0
B54: （２）キャリアパス要件Ⅰ・Ⅱ ※要件Ⅰ・Ⅱの両方を満たすこと。
D56: 計画書の記載時点で要件を満たすとしていた事業所は左欄にチェック（✓）すること。 | AM56: FALSE
C59: キャリアパス要件Ⅰ（任用要件・賃金体系の整備等）
E60: 次のイからハまでのすべての基準を満たす。 | S60: ← | T60: =IF(H7="", "",IF(AM56=TRUE, "", IF(AM60=TRUE,"○","×"))) | AM60: FALSE
C61: イ | D61: 職員の任用における職位、職責又は職務内容等の要件を定めている。
C62: ロ | D62: イに掲げる職位、職責又は職務内容等に応じた賃金体系を定めている。
C63: ハ | D63: イ、ロについて、就業規則等の明確な根拠規定を書面で整備し、全ての職員に周知している。
C65: キャリアパス要件Ⅱ（研修の実施等）
E66: 次のイとロの両方の基準を満たす。 | S66: ← | T66: =IF(H7="", "",IF(AM56=TRUE,"",IF(AND(AM66=TRUE,OR(AND(AN66=TRUE,J69<>""),AND(AO67=TRUE,J71<>""))),"○","×"))) | AM66: FALSE | AN66: FALSE
C67: イ | D67: 職員の職務内容等を踏まえ、職員と意見交換しながら、資質向上の目標及び①・②のうち少なくともいずれかに関する具体的な計画を策定し、研修の実施又は研修の機会を確保している。 | AM67: TRUE | AO67: FALSE
D68: イの実現のための具体的な取組内容 （該当する項目にチェック（✔）した上で、具体的な内容を記載） | I68: ① | J68: 資質向上のための計画に沿って、研修機会の提供又は技術指導等を実施するとともに、職員の能力評価を行う。 ※当該取組の内容について以下に記載すること
AQ69: ！チェックボックスにチェック（✔）するだけでなく、右側の自由記載欄に具体的な内容を記載してください。 また、自由記載欄に記載した場合は、左側のチェックボックスにチェック（✓）を入れてください。
I70: ② | J70: 資格取得のための支援の実施 | S70: ※当該取組の内容について以下に記載すること
AQ71: ！チェックボックスにチェック（✔）するだけでなく、右側の自由記載欄に具体的な内容を記載してください。 また、自由記載欄に記載した場合は、左側のチェックボックスにチェック（✓）を入れてください。
C72: ロ | D72: イについて、全ての職員に周知している。
B74: （３）キャリアパス要件Ⅲ（昇給の仕組みの整備等）
C76: 計画書の記載時点で要件を満たすとしていた事業所は左欄にチェック（✓）すること。 | AM76: FALSE
D78: 次のイとロの両方の基準を満たす。 | R78: ← | S78: =IF(H7="", "", IF(AM76=TRUE,"",IF(AM79="記入不要","",IF(AND(AM80=TRUE,OR(AN80=TRUE,AO80=TRUE,AP80=TRUE)),"○","×"))))
B79: イ | C79: 介護職員について、経験若しくは資格等に応じて昇給する仕組み又は一定の基準に基づき定期に昇給を判定する仕組みを設けている。
C80: 具体的な仕組みの内容（該当するもの全てにチェック（✔）すること。） | H80: ① | I80: 経験に応じて昇給する仕組み ※「勤続年数」や「経験年数」などに応じて昇給する仕組みを指す。 | AM80: FALSE | AN80: FALSE | AO80: FALSE | AP80: FALSE
H81: ② | I81: 資格等に応じて昇給する仕組み ※「介護福祉士」や「実務者研修修了者」などの取得に応じて昇給する仕組みを指す。ただし、介護福祉士資格を有して就業する者についても昇給が図られる仕組みであることを要する。
H82: ③ | I82: 一定の基準に基づき定期に昇給を判定する仕組み ※「実技試験」や「人事評価」などの結果に基づき昇給する仕組みを指す。ただし、客観的な評価基準や昇給条件が明文化されていることを要する。
B83: ロ | C83: イについて、全ての介護職員に周知している。
B85: （４）キャリアパス要件Ⅳ（改善後の賃金要件） 【処遇改善加算Ⅰ・Ⅱ】
B87: 処遇改善加算Ⅰ・Ⅱ（令和８年４月、５月） | R87: ⇒ | S87: ='別紙様式3-2（処遇改善加算 個票）'!Z5 | T87: （別紙様式3-2「キャリアパス要件Ⅳ」の欄から転記） | AM87: =IF(COUNTIF(S87:S88, "×")>0, "設定できない", "要件を満たす") -> 要件を満たす
B88: 処遇改善加算Ⅰイ、Ⅰロ、Ⅱイ、Ⅱロの要件（令和８年６月以降） | R88: ⇒ | S88: ='別紙様式3-2（処遇改善加算 個票）'!Z7 | T88: （別紙様式3-2「キャリアパス要件Ⅳ」の欄から転記）
B90: ⇒上記に「×」が付いた場合、この欄に記入すること | AK90: =IF(H7="","",IF(AND(S87="○",S88="○"),"",IF(OR(AM92=TRUE,AM93=TRUE,AM94=TRUE,AND(AM95=TRUE,G95<>"")),"○","×"))) | AM90: =IF(AND(S87="○", S88="○"), TRUE, FALSE) -> FALSE
B91: 「改善後の賃金が年額440万円以上となる者」を設定できない場合その理由 | AQ91: ！キャリアパス要件Ⅳの欄に「×」があるのに、左のチェックボックスにチェック（✔）が入っていません。
D92: 小規模事業所等で職員間の賃金バランスに配慮が必要のため。 | AM92: FALSE
D93: 職員全体の賃金水準が低い、地域の賃金水準が低い等の理由により、直ちに年額440万円まで賃金を引き上げることが困難であるため。 | AM93: FALSE
D94: 年額440万円の賃金改善を行うに当たり、規程の整備や研修・実務経験の蓄積などに一定期間を要するため。 | AM94: FALSE
D95: その他（ | AK95: ） | AM95: FALSE | AQ95: ！「その他」にチェック（✔）した場合は、具体的な内容を記載してください。
B97: （５）職場環境等要件
C98: 計画書の記載時点で要件を満たすとしていた事業所は左欄にチェック（✓）すること。 | AM98: FALSE
B99: 各加算区分の算定に必要な職場環境等要件を満たす。 | AK99: =IF(H7="", "", IF(OR(AND(AI101="該当", AN108>=2, AN112>=2, AN116>=2, AN120>=2, AN124>=3, OR(AM124=TRUE,AM125= TRUE), AN133>=2), AND(AI101="", AI104="該当", AN108>=1, AN112>=1, AN116>=1, AN120>=1, OR(AN124>=2,AM132=TRUE), AN133>=1)), "○", "×"))
B101: 【４，５月は、処遇改善加算Ⅰ・Ⅱ、６月以降は処遇改善加算Ⅰイ、Ⅰロ、Ⅱイ、Ⅱロが対象】 | AI101: =IF(AN51<>0, "該当", "")
B102: ⇒ | C102: ・計画書の時点で実施済みだった項目及び令和７年度中に対応すると誓約していた項目にチェック（✔）すること。 ・ 「入職促進に向けた取組」、「資質の向上やキャリアアップに向けた支援」、「両立支援・多様な働き方の推進」、「腰痛を含む心身の健康管理」 及び「やりがい・働きがいの醸成」の区分ごとに２以上の取組を実施すること。 ・「生産性向上のための取組」のうち３以上の取組（うち⑰又は⑱は必須）を実施すること。
B104: 【処遇改善加算Ⅲ・Ⅳ、６月以降は新規に対象となるサービスも対象】 | AI104: =IF(AN49=AN51, "", "該当")
B105: ⇒ | C105: ・計画書の時点で実施済みだった項目及び令和８年度中に対応すると誓約していた項目にチェック（✔）すること。 ・「入職促進に向けた取組」、「資質の向上やキャリアアップに向けた支援」、「両立支援・多様な働き方の推進」、「腰痛を含む心身の健康管理」 及び「やりがい・働きがいの醸成」の区分ごとに１以上を実施すること。 ・「生産性向上のための取組」のうち２以上の取組を実施すること。１法人あたり１の施設又は事業所のみを運営するような法人等の小規模事業者であり、㉔の取組を実施している場合は、㉔の２を選択すること。
B107: 区分 | F107: 内容
B108: 入職促進に向けた取組 | G108: ①法人や事業所の経営理念やケア方針・人材育成方針、その実現のための施策・仕組みなどの明確化 | AM108: FALSE | AN108: =COUNTIF(AM108:AM111, TRUE) -> 0 | AQ108: =IF(AI101="該当", "！この区分（４項目）から２つ以上の取組が選択されていません。", "！この区分（４項目）から１つ以上の取組が選択されていません。") -> ！この区分（４項目）から１つ以上の取組が選択されていません。
G109: ②事業者の共同による採用・人事ローテーション・研修のための制度構築 | AM109: FALSE
G110: ③他産業からの転職者、主婦層、中高年齢者等、経験者・有資格者等にこだわらない幅広い採用の仕組みの構築（採用の実績でも可） | AM110: FALSE
G111: ④職業体験の受入れや地域行事への参加や主催等による職業魅力度向上の取組の実施 | AM111: FALSE
B112: 資質の向上やキャリアアップに向けた支援 | G112: ⑤働きながら介護福祉士取得を目指す者に対する実務者研修受講支援や、より専門性の高い介護技術を取得しようとする者に対するユニットリーダー研修、ファーストステップ研修、喀痰吸引、認知症ケア、サービス提供責任者研修、中堅職員に対するマネジメント研修の受講支援等 | AM112: FALSE | AN112: =COUNTIF(AM112:AM115, TRUE) -> 0 | AQ112: =IF(AI101="該当", "！この区分（４項目）から２つ以上の取組が選択されていません。", "！この区分（４項目）から１つ以上の取組が選択されていません。") -> ！この区分（４項目）から１つ以上の取組が選択されていません。
G113: ⑥研修の受講やキャリア段位制度と人事考課との連動 | AM113: FALSE
G114: ⑦エルダー・メンター（仕事やメンタル面のサポート等をする担当者）制度等導入 | AM114: FALSE
G115: ⑧上位者・担当者等によるキャリア面談など、キャリアアップ・働き方等に関する定期的な相談の機会の確保 | AM115: FALSE
B116: 両立支援・多様な働き方の推進 | G116: ⑨子育てや家族等の介護等と仕事の両立を目指す者のための休業制度等の充実、事業所内託児施設の整備 | AM116: FALSE | AN116: =COUNTIF(AM116:AM119, TRUE) -> 0 | AQ116: =IF(AI101="該当", "！この区分（４項目）から２つ以上の取組が選択されていません。", "！この区分（４項目）から１つ以上の取組が選択されていません。") -> ！この区分（４項目）から１つ以上の取組が選択されていません。
G117: ⑩職員の事情等の状況に応じた勤務シフトや短時間正規職員制度の導入、職員の希望に即した非正規職員から正規職員への転換の制度等の整備 | AM117: FALSE
G118: ⑪有給休暇を取得しやすい雰囲気・意識作りのため、具体的な取得目標（例えば、１週間以上の休暇を年に●回取得、付与日数のうち●％以上を取得）を定めた上で、取得状況を定期的に確認し、身近な上司等からの積極的な声かけを行っている | AM118: FALSE
G119: ⑫有給休暇の取得促進のため、情報共有や複数担当制等により、業務の属人化の解消、業務配分の偏りの解消を行っている | AM119: FALSE
B120: 腰痛を含む心身の健康管理 | G120: ⑬業務や福利厚生制度、メンタルヘルス等の職員相談窓口の設置等相談体制の充実 | AM120: FALSE | AN120: =COUNTIF(AM120:AM123, TRUE) -> 0 | AQ120: =IF(AI101="該当", "！この区分（４項目）から２つ以上の取組が選択されていません。", "！この区分（４項目）から１つ以上の取組が選択されていません。") -> ！この区分（４項目）から１つ以上の取組が選択されていません。
G121: ⑭短時間勤務労働者等も受診可能な健康診断・ストレスチェックや、従業員のための休憩室の設置等健康管理対策の実施 | AM121: FALSE
...

Sheet 別紙様式3-2（処遇改善加算　個票）
A1: 別紙様式３－２個票 | W1: 提出先 | Y1: =IF(基本情報入力シート!G18="","",基本情報入力シート!G18)
A3: 法人名 | F3: =IF(基本情報入力シート!M23="","",基本情報入力シート!M23)
T4: キャリアパス要件Ⅳについて
B5: 処遇改善加算の加算額［円］ | N5: =IFERROR(SUM(P:P)+SUM(W:W),"") -> 0 | O5: 円 | R5: 令和８年 ４月・５月分 | T5: 改善後の賃金が年額440万円以上となる者の数 | Y5: =SUM(S14:T113) -> 0 | Z5: =IF(Y6=0, "", IF(Y5>=Y6,"○","×"))
D6: うち、処遇改善加算Ⅳ相当の加算額の１/２［円］ （別紙様式3-1 ３⑴の内数） | N6: =SUM(Q:Q, X:X) -> 0 | O6: 円 | T6: 処遇改善加算Ⅰ・Ⅱの算定を届け出た事業所数 （短期入所・予防・総合事業での重複除く） | Y6: =SUM(AF:AF) -> 0
B7: 【記入上の注意】 ・本表に記載する事業所は、計画書の「別紙様式２－２」及び「別紙様式２－３」に記載した事業所と一致しなければならない。 ・事業所ごとの加算の総額は、国民健康保険団体連合会から送付される「介護職員等処遇改善加算総額のお知らせ」及び「介護職員等処遇改善加算内訳のお知らせ」に基づいて記入すること。 | R7: 令和８年６月以降分 | T7: 改善後の賃金が年額440万円以上となる者の数 | Y7: =SUM(Z14:Z113) -> 0 | Z7: =IF(Y8=0, "", IF(Y7>=Y8,"○","×"))
T8: 処遇改善加算Ⅰイ、Ⅰロ、Ⅱイ、Ⅱロの算定を届け出た事業所数 （短期入所・予防・総合事業での重複除く） | Y8: =SUM(AG:AG) -> 0
B10: 介護保険 事業所 番号 | J10: 指定権者 | K10: 事業所の所在地 | M10: 事業所名 | N10: サービス名 | O10: 介護職員等処遇改善加算 | AB10: ４、５月時点の処遇改善加算対象サービス | AC10: ４、５月時点の処遇改善加算区分 | AD10: ６月以降の処遇改善加算区分 | AE10: キャリアパス要件Ⅳの適用 | AF10: キャリアパス要件Ⅳの必要数チェック （併設の場合０） | AH10: 令和８年度特例要件の対象
O11: 令和８年４月・５月分 | V11: 令和８年６月以降分
O12: 令和８年４月、５月に算定した 加算区分 | P12: 加算の総額 ［円］ | Q12: 加算Ⅳ相当の加算額の１/２ | R12: 月額賃金改善要件 | S12: キャリアパス 要件Ⅳ | U12: 令和８年度 特例要件 | V12: 令和８年６月 以降に算定した加算区分 | W12: 加算の総額 ［円］ | X12: 加算Ⅳ相当の加算額の１/２ | Y12: 月額賃金改善要件 | Z12: キャリアパス 要件Ⅳ | AA12: 令和８年度 特例要件
K13: 都道府県 | L13: 市区町村 | S13: 改善後の賃金要件（年額440万円以上）を満たす 職員数［人］ | Z13: 改善後の賃金要件（年額440万円以上）を満たす職員数［人］ | AF13: 令和８年４月、５月 | AG13: 令和８年６月以降分
A14: 1 | B14: =IF(基本情報入力シート!C45="","",基本情報入力シート!C45) | J14: =IF(基本情報入力シート!M45="","",基本情報入力シート!M45) | K14: =IF(基本情報入力シート!R45="","",基本情報入力シート!R45) | L14: =IF(基本情報入力シート!W45="","",基本情報入力シート!W45) | M14: =IF(基本情報入力シート!X45="","",基本情報入力シート!X45) | N14: =IF(基本情報入力シート!Y45="","",基本情報入力シート!Y45) | Q14: =IFERROR(ROUNDDOWN(P14*VLOOKUP(N14,【参考】数式用!$V$2:$AA$58,MATCH(O14,【参考】数式用!$X$4:$AA$4)+2,FALSE)*0.5, 0), "") | X14: =IFERROR(IF(V14="ー", "", ROUNDDOWN(W14*VLOOKUP(N14,【参考】数式用!$V$2:$AG$51,MATCH(V14,【参考】数式用!$AB$4:$AG$4)+6,FALSE)*0.5, 0)), "") | AB14: =VLOOKUP(N14,【参考】数式用!$A$3:$N$58,14,FALSE) -> #N/A | AC14: =IFERROR(VLOOKUP(N14,【参考】数式用!$A$3:$N$58,14,FALSE),"")&"_4_5" -> _4_5 | AD14: =IFERROR(VLOOKUP(N14,【参考】数式用!$A$3:$N$58,14,FALSE),"")&"_6" -> _6 | AE14: =IFERROR(VLOOKUP(N14,【参考】数式用!$AI$5:$AJ$51, 2, FALSE), "") | AF14: =IF(OR(O14="処遇改善加算Ⅰ",O14="処遇改善加算Ⅱ"),IF(AND(N14<>"訪問型サービス（総合事業）",N14<>"通所型サービス（総合事業）",N14<>"（介護予防）短期入所生活介護",N14<>"（介護予防）短期入所療養介護（老健）",N14<>"（介護予防）短期入所療養介護 （病院等（老健以外）)",N14<>"（介護予防）短期入所療養介護（医療院）"),1,""),"") | AG14: =IF(OR(V14="処遇改善加算Ⅰイ",V14="処遇改善加算Ⅰロ",V14="処遇改善加算Ⅱイ",V14="処遇改善加算Ⅱロ"),IF(AND(N14<>"訪問型サービス（総合事業）",N14<>"通所型サービス（総合事業）",N14<>"（介護予防）短期入所生活介護",N14<>"（介護予防）短期入所療養介護（老健）",N14<>"（介護予防）短期入所療養介護 （病院等（老健以外）)",N14<>"（介護予防）短期入所療養介護（医療院）"),1,""),"") | AH14: =IFERROR(VLOOKUP(N14,【参考】数式用!$AM$3:$AN$56, 2, FALSE), "")
A15: 2 | B15: =IF(基本情報入力シート!C46="","",基本情報入力シート!C46) | J15: =IF(基本情報入力シート!M46="","",基本情報入力シート!M46) | K15: =IF(基本情報入力シート!R46="","",基本情報入力シート!R46) | L15: =IF(基本情報入力シート!W46="","",基本情報入力シート!W46) | M15: =IF(基本情報入力シート!X46="","",基本情報入力シート!X46) | N15: =IF(基本情報入力シート!Y46="","",基本情報入力シート!Y46) | Q15: =IFERROR(ROUNDDOWN(P15*VLOOKUP(N15,【参考】数式用!$V$2:$AA$58,MATCH(O15,【参考】数式用!$X$4:$AA$4)+2,FALSE)*0.5, 0), "") | X15: =IFERROR(IF(V15="ー", "", ROUNDDOWN(W15*VLOOKUP(N15,【参考】数式用!$V$2:$AG$51,MATCH(V15,【参考】数式用!$AB$4:$AG$4)+6,FALSE)*0.5, 0)), "") | AB15: =VLOOKUP(N15,【参考】数式用!$A$3:$N$58,14,FALSE) -> #N/A | AC15: =IFERROR(VLOOKUP(N15,【参考】数式用!$A$3:$N$58,14,FALSE),"")&"_4_5" -> _4_5 | AD15: =IFERROR(VLOOKUP(N15,【参考】数式用!$A$3:$N$58,14,FALSE),"")&"_6" -> _6 | AE15: =IFERROR(VLOOKUP(N15,【参考】数式用!$AI$5:$AJ$51, 2, FALSE), "") | AF15: =IF(OR(O15="処遇改善加算Ⅰ",O15="処遇改善加算Ⅱ"),IF(AND(N15<>"訪問型サービス（総合事業）",N15<>"通所型サービス（総合事業）",N15<>"（介護予防）短期入所生活介護",N15<>"（介護予防）短期入所療養介護（老健）",N15<>"（介護予防）短期入所療養介護 （病院等（老健以外）)",N15<>"（介護予防）短期入所療養介護（医療院）"),1,""),"") | AG15: =IF(OR(V15="処遇改善加算Ⅰイ",V15="処遇改善加算Ⅰロ",V15="処遇改善加算Ⅱイ",V15="処遇改善加算Ⅱロ"),IF(AND(N15<>"訪問型サービス（総合事業）",N15<>"通所型サービス（総合事業）",N15<>"（介護予防）短期入所生活介護",N15<>"（介護予防）短期入所療養介護（老健）",N15<>"（介護予防）短期入所療養介護 （病院等（老健以外）)",N15<>"（介護予防）短期入所療養介護（医療院）"),1,""),"") | AH15: =IFERROR(VLOOKUP(N15,【参考】数式用!$AM$3:$AN$56, 2, FALSE), "")
A16: 3 | B16: =IF(基本情報入力シート!C47="","",基本情報入力シート!C47) | J16: =IF(基本情報入力シート!M47="","",基本情報入力シート!M47) | K16: =IF(基本情報入力シート!R47="","",基本情報入力シート!R47) | L16: =IF(基本情報入力シート!W47="","",基本情報入力シート!W47) | M16: =IF(基本情報入力シート!X47="","",基本情報入力シート!X47) | N16: =IF(基本情報入力シート!Y47="","",基本情報入力シート!Y47) | Q16: =IFERROR(ROUNDDOWN(P16*VLOOKUP(N16,【参考】数式用!$V$2:$AA$58,MATCH(O16,【参考】数式用!$X$4:$AA$4)+2,FALSE)*0.5, 0), "") | X16: =IFERROR(IF(V16="ー", "", ROUNDDOWN(W16*VLOOKUP(N16,【参考】数式用!$V$2:$AG$51,MATCH(V16,【参考】数式用!$AB$4:$AG$4)+6,FALSE)*0.5, 0)), "") | AB16: =VLOOKUP(N16,【参考】数式用!$A$3:$N$58,14,FALSE) -> #N/A | AC16: =IFERROR(VLOOKUP(N16,【参考】数式用!$A$3:$N$58,14,FALSE),"")&"_4_5" -> _4_5 | AD16: =IFERROR(VLOOKUP(N16,【参考】数式用!$A$3:$N$58,14,FALSE),"")&"_6" -> _6 | AE16: =IFERROR(VLOOKUP(N16,【参考】数式用!$AI$5:$AJ$51, 2, FALSE), "") | AF16: =IF(OR(O16="処遇改善加算Ⅰ",O16="処遇改善加算Ⅱ"),IF(AND(N16<>"訪問型サービス（総合事業）",N16<>"通所型サービス（総合事業）",N16<>"（介護予防）短期入所生活介護",N16<>"（介護予防）短期入所療養介護（老健）",N16<>"（介護予防）短期入所療養介護 （病院等（老健以外）)",N16<>"（介護予防）短期入所療養介護（医療院）"),1,""),"") | AG16: =IF(OR(V16="処遇改善加算Ⅰイ",V16="処遇改善加算Ⅰロ",V16="処遇改善加算Ⅱイ",V16="処遇改善加算Ⅱロ"),IF(AND(N16<>"訪問型サービス（総合事業）",N16<>"通所型サービス（総合事業）",N16<>"（介護予防）短期入所生活介護",N16<>"（介護予防）短期入所療養介護（老健）",N16<>"（介護予防）短期入所療養介護 （病院等（老健以外）)",N16<>"（介護予防）短期入所療養介護（医療院）"),1,""),"") | AH16: =IFERROR(VLOOKUP(N16,【参考】数式用!$AM$3:$AN$56, 2, FALSE), "")
A17: 4 | B17: =IF(基本情報入力シート!C48="","",基本情報入力シート!C48) | J17: =IF(基本情報入力シート!M48="","",基本情報入力シート!M48) | K17: =IF(基本情報入力シート!R48="","",基本情報入力シート!R48) | L17: =IF(基本情報入力シート!W48="","",基本情報入力シート!W48) | M17: =IF(基本情報入力シート!X48="","",基本情報入力シート!X48) | N17: =IF(基本情報入力シート!Y48="","",基本情報入力シート!Y48) | Q17: =IFERROR(ROUNDDOWN(P17*VLOOKUP(N17,【参考】数式用!$V$2:$AA$58,MATCH(O17,【参考】数式用!$X$4:$AA$4)+2,FALSE)*0.5, 0), "") | X17: =IFERROR(IF(V17="ー", "", ROUNDDOWN(W17*VLOOKUP(N17,【参考】数式用!$V$2:$AG$51,MATCH(V17,【参考】数式用!$AB$4:$AG$4)+6,FALSE)*0.5, 0)), "") | AB17: =VLOOKUP(N17,【参考】数式用!$A$3:$N$58,14,FALSE) -> #N/A | AC17: =IFERROR(VLOOKUP(N17,【参考】数式用!$A$3:$N$58,14,FALSE),"")&"_4_5" -> _4_5 | AD17: =IFERROR(VLOOKUP(N17,【参考】数式用!$A$3:$N$58,14,FALSE),"")&"_6" -> _6 | AE17: =IFERROR(VLOOKUP(N17,【参考】数式用!$AI$5:$AJ$51, 2, FALSE), "") | AF17: =IF(OR(O17="処遇改善加算Ⅰ",O17="処遇改善加算Ⅱ"),IF(AND(N17<>"訪問型サービス（総合事業）",N17<>"通所型サービス（総合事業）",N17<>"（介護予防）短期入所生活介護",N17<>"（介護予防）短期入所療養介護（老健）",N17<>"（介護予防）短期入所療養介護 （病院等（老健以外）)",N17<>"（介護予防）短期入所療養介護（医療院）"),1,""),"") | AG17: =IF(OR(V17="処遇改善加算Ⅰイ",V17="処遇改善加算Ⅰロ",V17="処遇改善加算Ⅱイ",V17="処遇改善加算Ⅱロ"),IF(AND(N17<>"訪問型サービス（総合事業）",N17<>"通所型サービス（総合事業）",N17<>"（介護予防）短期入所生活介護",N17<>"（介護予防）短期入所療養介護（老健）",N17<>"（介護予防）短期入所療養介護 （病院等（老健以外）)",N17<>"（介護予防）短期入所療養介護（医療院）"),1,""),"") | AH17: =IFERROR(VLOOKUP(N17,【参考】数式用!$AM$3:$AN$56, 2, FALSE), "")
A18: 5 | B18: =IF(基本情報入力シート!C49="","",基本情報入力シート!C49) | J18: =IF(基本情報入力シート!M49="","",基本情報入力シート!M49) | K18: =IF(基本情報入力シート!R49="","",基本情報入力シート!R49) | L18: =IF(基本情報入力シート!W49="","",基本情報入力シート!W49) | M18: =IF(基本情報入力シート!X49="","",基本情報入力シート!X49) | N18: =IF(基本情報入力シート!Y49="","",基本情報入力シート!Y49) | Q18: =IFERROR(ROUNDDOWN(P18*VLOOKUP(N18,【参考】数式用!$V$2:$AA$58,MATCH(O18,【参考】数式用!$X$4:$AA$4)+2,FALSE)*0.5, 0), "") | X18: =IFERROR(IF(V18="ー", "", ROUNDDOWN(W18*VLOOKUP(N18,【参考】数式用!$V$2:$AG$51,MATCH(V18,【参考】数式用!$AB$4:$AG$4)+6,FALSE)*0.5, 0)), "") | AB18: =VLOOKUP(N18,【参考】数式用!$A$3:$N$58,14,FALSE) -> #N/A | AC18: =IFERROR(VLOOKUP(N18,【参考】数式用!$A$3:$N$58,14,FALSE),"")&"_4_5" -> _4_5 | AD18: =IFERROR(VLOOKUP(N18,【参考】数式用!$A$3:$N$58,14,FALSE),"")&"_6" -> _6 | AE18: =IFERROR(VLOOKUP(N18,【参考】数式用!$AI$5:$AJ$51, 2, FALSE), "") | AF18: =IF(OR(O18="処遇改善加算Ⅰ",O18="処遇改善加算Ⅱ"),IF(AND(N18<>"訪問型サービス（総合事業）",N18<>"通所型サービス（総合事業）",N18<>"（介護予防）短期入所生活介護",N18<>"（介護予防）短期入所療養介護（老健）",N18<>"（介護予防）短期入所療養介護 （病院等（老健以外）)",N18<>"（介護予防）短期入所療養介護（医療院）"),1,""),"") | AG18: =IF(OR(V18="処遇改善加算Ⅰイ",V18="処遇改善加算Ⅰロ",V18="処遇改善加算Ⅱイ",V18="処遇改善加算Ⅱロ"),IF(AND(N18<>"訪問型サービス（総合事業）",N18<>"通所型サービス（総合事業）",N18<>"（介護予防）短期入所生活介護",N18<>"（介護予防）短期入所療養介護（老健）",N18<>"（介護予防）短期入所療養介護 （病院等（老健以外）)",N18<>"（介護予防）短期入所療養介護（医療院）"),1,""),"") | AH18: =IFERROR(VLOOKUP(N18,【参考】数式用!$AM$3:$AN$56, 2, FALSE), "")
A19: 6 | B19: =IF(基本情報入力シート!C50="","",基本情報入力シート!C50) | J19: =IF(基本情報入力シート!M50="","",基本情報入力シート!M50) | K19: =IF(基本情報入力シート!R50="","",基本情報入力シート!R50) | L19: =IF(基本情報入力シート!W50="","",基本情報入力シート!W50) | M19: =IF(基本情報入力シート!X50="","",基本情報入力シート!X50) | N19: =IF(基本情報入力シート!Y50="","",基本情報入力シート!Y50) | Q19: =IFERROR(ROUNDDOWN(P19*VLOOKUP(N19,【参考】数式用!$V$2:$AA$58,MATCH(O19,【参考】数式用!$X$4:$AA$4)+2,FALSE)*0.5, 0), "") | X19: =IFERROR(IF(V19="ー", "", ROUNDDOWN(W19*VLOOKUP(N19,【参考】数式用!$V$2:$AG$51,MATCH(V19,【参考】数式用!$AB$4:$AG$4)+6,FALSE)*0.5, 0)), "") | AB19: =VLOOKUP(N19,【参考】数式用!$A$3:$N$58,14,FALSE) -> #N/A | AC19: =IFERROR(VLOOKUP(N19,【参考】数式用!$A$3:$N$58,14,FALSE),"")&"_4_5" -> _4_5 | AD19: =IFERROR(VLOOKUP(N19,【参考】数式用!$A$3:$N$58,14,FALSE),"")&"_6" -> _6 | AE19: =IFERROR(VLOOKUP(N19,【参考】数式用!$AI$5:$AJ$51, 2, FALSE), "") | AF19: =IF(OR(O19="処遇改善加算Ⅰ",O19="処遇改善加算Ⅱ"),IF(AND(N19<>"訪問型サービス（総合事業）",N19<>"通所型サービス（総合事業）",N19<>"（介護予防）短期入所生活介護",N19<>"（介護予防）短期入所療養介護（老健）",N19<>"（介護予防）短期入所療養介護 （病院等（老健以外）)",N19<>"（介護予防）短期入所療養介護（医療院）"),1,""),"") | AG19: =IF(OR(V19="処遇改善加算Ⅰイ",V19="処遇改善加算Ⅰロ",V19="処遇改善加算Ⅱイ",V19="処遇改善加算Ⅱロ"),IF(AND(N19<>"訪問型サービス（総合事業）",N19<>"通所型サービス（総合事業）",N19<>"（介護予防）短期入所生活介護",N19<>"（介護予防）短期入所療養介護（老健）",N19<>"（介護予防）短期入所療養介護 （病院等（老健以外）)",N19<>"（介護予防）短期入所療養介護（医療院）"),1,""),"") | AH19: =IFERROR(VLOOKUP(N19,【参考】数式用!$AM$3:$AN$56, 2, FALSE), "")
A20: 7 | B20: =IF(基本情報入力シート!C51="","",基本情報入力シート!C51) | J20: =IF(基本情報入力シート!M51="","",基本情報入力シート!M51) | K20: =IF(基本情報入力シート!R51="","",基本情報入力シート!R51) | L20: =IF(基本情報入力シート!W51="","",基本情報入力シート!W51) | M20: =IF(基本情報入力シート!X51="","",基本情報入力シート!X51) | N20: =IF(基本情報入力シート!Y51="","",基本情報入力シート!Y51) | Q20: =IFERROR(ROUNDDOWN(P20*VLOOKUP(N20,【参考】数式用!$V$2:$AA$58,MATCH(O20,【参考】数式用!$X$4:$AA$4)+2,FALSE)*0.5, 0), "") | X20: =IFERROR(IF(V20="ー", "", ROUNDDOWN(W20*VLOOKUP(N20,【参考】数式用!$V$2:$AG$51,MATCH(V20,【参考】数式用!$AB$4:$AG$4)+6,FALSE)*0.5, 0)), "") | AB20: =VLOOKUP(N20,【参考】数式用!$A$3:$N$58,14,FALSE) -> #N/A | AC20: =IFERROR(VLOOKUP(N20,【参考】数式用!$A$3:$N$58,14,FALSE),"")&"_4_5" -> _4_5 | AD20: =IFERROR(VLOOKUP(N20,【参考】数式用!$A$3:$N$58,14,FALSE),"")&"_6" -> _6 | AE20: =IFERROR(VLOOKUP(N20,【参考】数式用!$AI$5:$AJ$51, 2, FALSE), "") | AF20: =IF(OR(O20="処遇改善加算Ⅰ",O20="処遇改善加算Ⅱ"),IF(AND(N20<>"訪問型サービス（総合事業）",N20<>"通所型サービス（総合事業）",N20<>"（介護予防）短期入所生活介護",N20<>"（介護予防）短期入所療養介護（老健）",N20<>"（介護予防）短期入所療養介護 （病院等（老健以外）)",N20<>"（介護予防）短期入所療養介護（医療院）"),1,""),"") | AG20: =IF(OR(V20="処遇改善加算Ⅰイ",V20="処遇改善加算Ⅰロ",V20="処遇改善加算Ⅱイ",V20="処遇改善加算Ⅱロ"),IF(AND(N20<>"訪問型サービス（総合事業）",N20<>"通所型サービス（総合事業）",N20<>"（介護予防）短期入所生活介護",N20<>"（介護予防）短期入所療養介護（老健）",N20<>"（介護予防）短期入所療養介護 （病院等（老健以外）)",N20<>"（介護予防）短期入所療養介護（医療院）"),1,""),"") | AH20: =IFERROR(VLOOKUP(N20,【参考】数式用!$AM$3:$AN$56, 2, FALSE), "")
A21: 8 | B21: =IF(基本情報入力シート!C52="","",基本情報入力シート!C52) | J21: =IF(基本情報入力シート!M52="","",基本情報入力シート!M52) | K21: =IF(基本情報入力シート!R52="","",基本情報入力シート!R52) | L21: =IF(基本情報入力シート!W52="","",基本情報入力シート!W52) | M21: =IF(基本情報入力シート!X52="","",基本情報入力シート!X52) | N21: =IF(基本情報入力シート!Y52="","",基本情報入力シート!Y52) | Q21: =IFERROR(ROUNDDOWN(P21*VLOOKUP(N21,【参考】数式用!$V$2:$AA$58,MATCH(O21,【参考】数式用!$X$4:$AA$4)+2,FALSE)*0.5, 0), "") | X21: =IFERROR(IF(V21="ー", "", ROUNDDOWN(W21*VLOOKUP(N21,【参考】数式用!$V$2:$AG$51,MATCH(V21,【参考】数式用!$AB$4:$AG$4)+6,FALSE)*0.5, 0)), "") | AB21: =VLOOKUP(N21,【参考】数式用!$A$3:$N$58,14,FALSE) -> #N/A | AC21: =IFERROR(VLOOKUP(N21,【参考】数式用!$A$3:$N$58,14,FALSE),"")&"_4_5" -> _4_5 | AD21: =IFERROR(VLOOKUP(N21,【参考】数式用!$A$3:$N$58,14,FALSE),"")&"_6" -> _6 | AE21: =IFERROR(VLOOKUP(N21,【参考】数式用!$AI$5:$AJ$51, 2, FALSE), "") | AF21: =IF(OR(O21="処遇改善加算Ⅰ",O21="処遇改善加算Ⅱ"),IF(AND(N21<>"訪問型サービス（総合事業）",N21<>"通所型サービス（総合事業）",N21<>"（介護予防）短期入所生活介護",N21<>"（介護予防）短期入所療養介護（老健）",N21<>"（介護予防）短期入所療養介護 （病院等（老健以外）)",N21<>"（介護予防）短期入所療養介護（医療院）"),1,""),"") | AG21: =IF(OR(V21="処遇改善加算Ⅰイ",V21="処遇改善加算Ⅰロ",V21="処遇改善加算Ⅱイ",V21="処遇改善加算Ⅱロ"),IF(AND(N21<>"訪問型サービス（総合事業）",N21<>"通所型サービス（総合事業）",N21<>"（介護予防）短期入所生活介護",N21<>"（介護予防）短期入所療養介護（老健）",N21<>"（介護予防）短期入所療養介護 （病院等（老健以外）)",N21<>"（介護予防）短期入所療養介護（医療院）"),1,""),"") | AH21: =IFERROR(VLOOKUP(N21,【参考】数式用!$AM$3:$AN$56, 2, FALSE), "")
A22: 9 | B22: =IF(基本情報入力シート!C53="","",基本情報入力シート!C53) | J22: =IF(基本情報入力シート!M53="","",基本情報入力シート!M53) | K22: =IF(基本情報入力シート!R53="","",基本情報入力シート!R53) | L22: =IF(基本情報入力シート!W53="","",基本情報入力シート!W53) | M22: =IF(基本情報入力シート!X53="","",基本情報入力シート!X53) | N22: =IF(基本情報入力シート!Y53="","",基本情報入力シート!Y53) | Q22: =IFERROR(ROUNDDOWN(P22*VLOOKUP(N22,【参考】数式用!$V$2:$AA$58,MATCH(O22,【参考】数式用!$X$4:$AA$4)+2,FALSE)*0.5, 0), "") | X22: =IFERROR(IF(V22="ー", "", ROUNDDOWN(W22*VLOOKUP(N22,【参考】数式用!$V$2:$AG$51,MATCH(V22,【参考】数式用!$AB$4:$AG$4)+6,FALSE)*0.5, 0)), "") | AB22: =VLOOKUP(N22,【参考】数式用!$A$3:$N$58,14,FALSE) -> #N/A | AC22: =IFERROR(VLOOKUP(N22,【参考】数式用!$A$3:$N$58,14,FALSE),"")&"_4_5" -> _4_5 | AD22: =IFERROR(VLOOKUP(N22,【参考】数式用!$A$3:$N$58,14,FALSE),"")&"_6" -> _6 | AE22: =IFERROR(VLOOKUP(N22,【参考】数式用!$AI$5:$AJ$51, 2, FALSE), "") | AF22: =IF(OR(O22="処遇改善加算Ⅰ",O22="処遇改善加算Ⅱ"),IF(AND(N22<>"訪問型サービス（総合事業）",N22<>"通所型サービス（総合事業）",N22<>"（介護予防）短期入所生活介護",N22<>"（介護予防）短期入所療養介護（老健）",N22<>"（介護予防）短期入所療養介護 （病院等（老健以外）)",N22<>"（介護予防）短期入所療養介護（医療院）"),1,""),"") | AG22: =IF(OR(V22="処遇改善加算Ⅰイ",V22="処遇改善加算Ⅰロ",V22="処遇改善加算Ⅱイ",V22="処遇改善加算Ⅱロ"),IF(AND(N22<>"訪問型サービス（総合事業）",N22<>"通所型サービス（総合事業）",N22<>"（介護予防）短期入所生活介護",N22<>"（介護予防）短期入所療養介護（老健）",N22<>"（介護予防）短期入所療養介護 （病院等（老健以外）)",N22<>"（介護予防）短期入所療養介護（医療院）"),1,""),"") | AH22: =IFERROR(VLOOKUP(N22,【参考】数式用!$AM$3:$AN$56, 2, FALSE), "")
A23: 10 | B23: =IF(基本情報入力シート!C54="","",基本情報入力シート!C54) | J23: =IF(基本情報入力シート!M54="","",基本情報入力シート!M54) | K23: =IF(基本情報入力シート!R54="","",基本情報入力シート!R54) | L23: =IF(基本情報入力シート!W54="","",基本情報入力シート!W54) | M23: =IF(基本情報入力シート!X54="","",基本情報入力シート!X54) | N23: =IF(基本情報入力シート!Y54="","",基本情報入力シート!Y54) | Q23: =IFERROR(ROUNDDOWN(P23*VLOOKUP(N23,【参考】数式用!$V$2:$AA$58,MATCH(O23,【参考】数式用!$X$4:$AA$4)+2,FALSE)*0.5, 0), "") | X23: =IFERROR(IF(V23="ー", "", ROUNDDOWN(W23*VLOOKUP(N23,【参考】数式用!$V$2:$AG$51,MATCH(V23,【参考】数式用!$AB$4:$AG$4)+6,FALSE)*0.5, 0)), "") | AB23: =VLOOKUP(N23,【参考】数式用!$A$3:$N$58,14,FALSE) -> #N/A | AC23: =IFERROR(VLOOKUP(N23,【参考】数式用!$A$3:$N$58,14,FALSE),"")&"_4_5" -> _4_5 | AD23: =IFERROR(VLOOKUP(N23,【参考】数式用!$A$3:$N$58,14,FALSE),"")&"_6" -> _6 | AE23: =IFERROR(VLOOKUP(N23,【参考】数式用!$AI$5:$AJ$51, 2, FALSE), "") | AF23: =IF(OR(O23="処遇改善加算Ⅰ",O23="処遇改善加算Ⅱ"),IF(AND(N23<>"訪問型サービス（総合事業）",N23<>"通所型サービス（総合事業）",N23<>"（介護予防）短期入所生活介護",N23<>"（介護予防）短期入所療養介護（老健）",N23<>"（介護予防）短期入所療養介護 （病院等（老健以外）)",N23<>"（介護予防）短期入所療養介護（医療院）"),1,""),"") | AG23: =IF(OR(V23="処遇改善加算Ⅰイ",V23="処遇改善加算Ⅰロ",V23="処遇改善加算Ⅱイ",V23="処遇改善加算Ⅱロ"),IF(AND(N23<>"訪問型サービス（総合事業）",N23<>"通所型サービス（総合事業）",N23<>"（介護予防）短期入所生活介護",N23<>"（介護予防）短期入所療養介護（老健）",N23<>"（介護予防）短期入所療養介護 （病院等（老健以外）)",N23<>"（介護予防）短期入所療養介護（医療院）"),1,""),"") | AH23: =IFERROR(VLOOKUP(N23,【参考】数式用!$AM$3:$AN$56, 2, FALSE), "")
A24: 11 | B24: =IF(基本情報入力シート!C55="","",基本情報入力シート!C55) | J24: =IF(基本情報入力シート!M55="","",基本情報入力シート!M55) | K24: =IF(基本情報入力シート!R55="","",基本情報入力シート!R55) | L24: =IF(基本情報入力シート!W55="","",基本情報入力シート!W55) | M24: =IF(基本情報入力シート!X55="","",基本情報入力シート!X55) | N24: =IF(基本情報入力シート!Y55="","",基本情報入力シート!Y55) | Q24: =IFERROR(ROUNDDOWN(P24*VLOOKUP(N24,【参考】数式用!$V$2:$AA$58,MATCH(O24,【参考】数式用!$X$4:$AA$4)+2,FALSE)*0.5, 0), "") | X24: =IFERROR(IF(V24="ー", "", ROUNDDOWN(W24*VLOOKUP(N24,【参考】数式用!$V$2:$AG$51,MATCH(V24,【参考】数式用!$AB$4:$AG$4)+6,FALSE)*0.5, 0)), "") | AB24: =VLOOKUP(N24,【参考】数式用!$A$3:$N$58,14,FALSE) -> #N/A | AC24: =IFERROR(VLOOKUP(N24,【参考】数式用!$A$3:$N$58,14,FALSE),"")&"_4_5" -> _4_5 | AD24: =IFERROR(VLOOKUP(N24,【参考】数式用!$A$3:$N$58,14,FALSE),"")&"_6" -> _6 | AE24: =IFERROR(VLOOKUP(N24,【参考】数式用!$AI$5:$AJ$51, 2, FALSE), "") | AF24: =IF(OR(O24="処遇改善加算Ⅰ",O24="処遇改善加算Ⅱ"),IF(AND(N24<>"訪問型サービス（総合事業）",N24<>"通所型サービス（総合事業）",N24<>"（介護予防）短期入所生活介護",N24<>"（介護予防）短期入所療養介護（老健）",N24<>"（介護予防）短期入所療養介護 （病院等（老健以外）)",N24<>"（介護予防）短期入所療養介護（医療院）"),1,""),"") | AG24: =IF(OR(V24="処遇改善加算Ⅰイ",V24="処遇改善加算Ⅰロ",V24="処遇改善加算Ⅱイ",V24="処遇改善加算Ⅱロ"),IF(AND(N24<>"訪問型サービス（総合事業）",N24<>"通所型サービス（総合事業）",N24<>"（介護予防）短期入所生活介護",N24<>"（介護予防）短期入所療養介護（老健）",N24<>"（介護予防）短期入所療養介護 （病院等（老健以外）)",N24<>"（介護予防）短期入所療養介護（医療院）"),1,""),"") | AH24: =IFERROR(VLOOKUP(N24,【参考】数式用!$AM$3:$AN$56, 2, FALSE), "")
A25: 12 | B25: =IF(基本情報入力シート!C56="","",基本情報入力シート!C56) | J25: =IF(基本情報入力シート!M56="","",基本情報入力シート!M56) | K25: =IF(基本情報入力シート!R56="","",基本情報入力シート!R56) | L25: =IF(基本情報入力シート!W56="","",基本情報入力シート!W56) | M25: =IF(基本情報入力シート!X56="","",基本情報入力シート!X56) | N25: =IF(基本情報入力シート!Y56="","",基本情報入力シート!Y56) | Q25: =IFERROR(ROUNDDOWN(P25*VLOOKUP(N25,【参考】数式用!$V$2:$AA$58,MATCH(O25,【参考】数式用!$X$4:$AA$4)+2,FALSE)*0.5, 0), "") | X25: =IFERROR(IF(V25="ー", "", ROUNDDOWN(W25*VLOOKUP(N25,【参考】数式用!$V$2:$AG$51,MATCH(V25,【参考】数式用!$AB$4:$AG$4)+6,FALSE)*0.5, 0)), "") | AB25: =VLOOKUP(N25,【参考】数式用!$A$3:$N$58,14,FALSE) -> #N/A | AC25: =IFERROR(VLOOKUP(N25,【参考】数式用!$A$3:$N$58,14,FALSE),"")&"_4_5" -> _4_5 | AD25: =IFERROR(VLOOKUP(N25,【参考】数式用!$A$3:$N$58,14,FALSE),"")&"_6" -> _6 | AE25: =IFERROR(VLOOKUP(N25,【参考】数式用!$AI$5:$AJ$51, 2, FALSE), "") | AF25: =IF(OR(O25="処遇改善加算Ⅰ",O25="処遇改善加算Ⅱ"),IF(AND(N25<>"訪問型サービス（総合事業）",N25<>"通所型サービス（総合事業）",N25<>"（介護予防）短期入所生活介護",N25<>"（介護予防）短期入所療養介護（老健）",N25<>"（介護予防）短期入所療養介護 （病院等（老健以外）)",N25<>"（介護予防）短期入所療養介護（医療院）"),1,""),"") | AG25: =IF(OR(V25="処遇改善加算Ⅰイ",V25="処遇改善加算Ⅰロ",V25="処遇改善加算Ⅱイ",V25="処遇改善加算Ⅱロ"),IF(AND(N25<>"訪問型サービス（総合事業）",N25<>"通所型サービス（総合事業）",N25<>"（介護予防）短期入所生活介護",N25<>"（介護予防）短期入所療養介護（老健）",N25<>"（介護予防）短期入所療養介護 （病院等（老健以外）)",N25<>"（介護予防）短期入所療養介護（医療院）"),1,""),"") | AH25: =IFERROR(VLOOKUP(N25,【参考】数式用!$AM$3:$AN$56, 2, FALSE), "")
A26: 13 | B26: =IF(基本情報入力シート!C57="","",基本情報入力シート!C57) | J26: =IF(基本情報入力シート!M57="","",基本情報入力シート!M57) | K26: =IF(基本情報入力シート!R57="","",基本情報入力シート!R57) | L26: =IF(基本情報入力シート!W57="","",基本情報入力シート!W57) | M26: =IF(基本情報入力シート!X57="","",基本情報入力シート!X57) | N26: =IF(基本情報入力シート!Y57="","",基本情報入力シート!Y57) | Q26: =IFERROR(ROUNDDOWN(P26*VLOOKUP(N26,【参考】数式用!$V$2:$AA$58,MATCH(O26,【参考】数式用!$X$4:$AA$4)+2,FALSE)*0.5, 0), "") | X26: =IFERROR(IF(V26="ー", "", ROUNDDOWN(W26*VLOOKUP(N26,【参考】数式用!$V$2:$AG$51,MATCH(V26,【参考】数式用!$AB$4:$AG$4)+6,FALSE)*0.5, 0)), "") | AB26: =VLOOKUP(N26,【参考】数式用!$A$3:$N$58,14,FALSE) -> #N/A | AC26: =IFERROR(VLOOKUP(N26,【参考】数式用!$A$3:$N$58,14,FALSE),"")&"_4_5" -> _4_5 | AD26: =IFERROR(VLOOKUP(N26,【参考】数式用!$A$3:$N$58,14,FALSE),"")&"_6" -> _6 | AE26: =IFERROR(VLOOKUP(N26,【参考】数式用!$AI$5:$AJ$51, 2, FALSE), "") | AF26: =IF(OR(O26="処遇改善加算Ⅰ",O26="処遇改善加算Ⅱ"),IF(AND(N26<>"訪問型サービス（総合事業）",N26<>"通所型サービス（総合事業）",N26<>"（介護予防）短期入所生活介護",N26<>"（介護予防）短期入所療養介護（老健）",N26<>"（介護予防）短期入所療養介護 （病院等（老健以外）)",N26<>"（介護予防）短期入所療養介護（医療院）"),1,""),"") | AG26: =IF(OR(V26="処遇改善加算Ⅰイ",V26="処遇改善加算Ⅰロ",V26="処遇改善加算Ⅱイ",V26="処遇改善加算Ⅱロ"),IF(AND(N26<>"訪問型サービス（総合事業）",N26<>"通所型サービス（総合事業）",N26<>"（介護予防）短期入所生活介護",N26<>"（介護予防）短期入所療養介護（老健）",N26<>"（介護予防）短期入所療養介護 （病院等（老健以外）)",N26<>"（介護予防）短期入所療養介護（医療院）"),1,""),"") | AH26: =IFERROR(VLOOKUP(N26,【参考】数式用!$AM$3:$AN$56, 2, FALSE), "")
... A113: 100 | B113: =IF(基本情報入力シート!C144="","",基本情報入力シート!C144) | J113: =IF(基本情報入力シート!M144="","",基本情報入力シート!M144) | K113: =IF(基本情報入力シート!R144="","",基本情報入力シート!R144) | L113: =IF(基本情報入力シート!W144="","",基本情報入力シート!W144) | M113: =IF(基本情報入力シート!X144="","",基本情報入力シート!X144) | N113: =IF(基本情報入力シート!Y144="","",基本情報入力シート!Y144) | Q113: =IFERROR(ROUNDDOWN(P113*VLOOKUP(N113,【参考】数式用!$V$2:$AA$58,MATCH(O113,【参考】数式用!$X$4:$AA$4)+2,FALSE)*0.5, 0), "") | X113: =IFERROR(IF(V113="ー", "", ROUNDDOWN(W113*VLOOKUP(N113,【参考】数式用!$V$2:$AG$51,MATCH(V113,【参考】数式用!$AB$4:$AG$4)+6,FALSE)*0.5, 0)), "") | AB113: =VLOOKUP(N113,【参考】数式用!$A$3:$N$58,14,FALSE) -> #N/A | AC113: =IFERROR(VLOOKUP(N113,【参考】数式用!$A$3:$N$58,14,FALSE),"")&"_4_5" -> _4_5 | AD113: =IFERROR(VLOOKUP(N113,【参考】数式用!$A$3:$N$58,14,FALSE),"")&"_6" -> _6 | AE113: =IFERROR(VLOOKUP(N113,【参考】数式用!$AI$5:$AJ$51, 2, FALSE), "") | AF113: =IF(OR(O113="処遇改善加算Ⅰ",O113="処遇改善加算Ⅱ"),IF(AND(N113<>"訪問型サービス（総合事業）",N113<>"通所型サービス（総合事業）",N113<>"（介護予防）短期入所生活介護",N113<>"（介護予防）短期入所療養介護（老健）",N113<>"（介護予防）短期入所療養介護 （病院等（老健以外）)",N113<>"（介護予防）短期入所療養介護（医療院）"),1,""),"") | AG113: =IF(OR(V113="処遇改善加算Ⅰイ",V113="処遇改善加算Ⅰロ",V113="処遇改善加算Ⅱイ",V113="処遇改善加算Ⅱロ"),IF(AND(N113<>"訪問型サービス（総合事業）",N113<>"通所型サービス（総合事業）",N113<>"（介護予防）短期入所生活介護",N113<>"（介護予防）短期入所療養介護（老健）",N113<>"（介護予防）短期入所療養介護 （病院等（老健以外）)",N113<>"（介護予防）短期入所療養介護（医療院）"),1,""),"") | AH113: =IFERROR(VLOOKUP(N113,【参考】数式用!$AM$3:$AN$56, 2, FALSE), "")

Sheet 【参考】数式用
A1: 表１ 加算率一覧 | Q1: 表３ | S1: 表５ | V1: 表６ 処遇改善加算Ⅳの比率（月額賃金改善要件Ⅰ） | AI1: 表８ キャリアパス要件Ⅳ 規定人数集計対象外リスト | AM1: 表９ 令和８年度特例要件
Q2: ✓ | S2: ４、５月の算定可能加算 | V2: サービス区分 | W2: コード値 | X2: 処遇改善加算Ⅳとの比 | AI2: サービス区分 | AJ2: 対象 | AM2: サービス区分 | AN2: 要件
A3: サービス区分 | B3: コード値 | C3: 処遇改善加算 加算率（令和８年４月・５月） | G3: 処遇改善加算 加算率（令和８年６月以降） | N3: 処遇改善加算 | O3: 分類 | S3: 加算対象 | T3: 加算対象外 | X3: 処遇改善加算 加算率（令和８年４月・５月） | AB3: 処遇改善加算 加算率（令和８年６月以降） | AM3: 訪問介護 | AN3: 訪問介護R8 | AO3: 申請時点でケアプランデータ連携システムを利用している | AP3: 申請後、ケアプランデータ連携システムに加入し、利用している | AQ3: 社会福祉連携推進法人に所属 | AR3: 申請時、令和８年度特例要件を満たすこととしていない
C4: 処遇改善加算Ⅰ | D4: 処遇改善加算Ⅱ | E4: 処遇改善加算Ⅲ | F4: 処遇改善加算Ⅳ | G4: 処遇改善加算Ⅰイ | H4: 処遇改善加算Ⅰロ | I4: 処遇改善加算Ⅱイ | J4: 処遇改善加算Ⅱロ | K4: 処遇改善加算Ⅲ | L4: 処遇改善加算Ⅳ | M4: 処遇改善加算 | S4: 処遇改善加算Ⅰ | T4: 対象外 | X4: 処遇改善加算Ⅰ | Y4: 処遇改善加算Ⅱ | Z4: 処遇改善加算Ⅲ | AA4: 処遇改善加算Ⅳ | AB4: 処遇改善加算Ⅰイ | AC4: 処遇改善加算Ⅰロ | AD4: 処遇改善加算Ⅱイ | AE4: 処遇改善加算Ⅱロ | AF4: 処遇改善加算Ⅲ | AG4: 処遇改善加算Ⅳ | AM4: 夜間対応型訪問介護 | AN4: 夜間対応型訪問介護R8 | AO4: 申請時点でケアプランデータ連携システムを利用している | AP4: 申請後、ケアプランデータ連携システムに加入し、利用している | AQ4: 社会福祉連携推進法人に所属 | AR4: 申請時、令和８年度特例要件を満たすこととしていない
A5: 訪問介護 | B5: 11 | C5: 0.245 | D5: 0.224 | E5: 0.182 | F5: 0.145 | G5: 0.27 | H5: 0.287 | I5: 0.249 | J5: 0.266 | K5: 0.207 | L5: 0.17 | N5: 加算対象 | O5: その他 | Q5: 表４ | S5: 処遇改善加算Ⅱ | V5: 訪問介護 | W5: 11 | X5: =$F$5/C5 -> 0.59183673 | Y5: =$F$5/D5 -> 0.64732143 | Z5: =$F$5/E5 -> 0.7967033 | AA5: =$F$5/F5 -> 1 | AB5: =$L$5/G5 -> 0.62962963 | AC5: =$L$5/H5 -> 0.59233449 | AD5: =$L$5/I5 -> 0.68273092 | AE5: =$L$5/J5 -> 0.63909774 | AF5: =$L$5/K5 -> 0.82125604 | AG5: =$L$5/L5 -> 1 | AI5: 訪問介護 | AJ5: 対象 | AM5: 定期巡回･随時対応型訪問介護看護 | AN5: 定期巡回･随時対応型訪問介護看護R8 | AO5: 申請時点でケアプランデータ連携システムを利用している | AP5: 申請後、ケアプランデータ連携システムに加入し、利用している | AQ5: 社会福祉連携推進法人に所属 | AR5: 申請時、令和８年度特例要件を満たすこととしていない
A6: 夜間対応型訪問介護 | B6: 71 | C6: 0.245 | D6: 0.224 | E6: 0.182 | F6: 0.145 | G6: 0.267 | H6: 0.278 | I6: 0.246 | J6: 0.257 | K6: 0.204 | L6: 0.167 | N6: 加算対象 | O6: その他 | Q6: ○ | S6: 処遇改善加算Ⅲ | V6: 夜間対応型訪問介護 | W6: 71 | X6: =$F$6/C6 -> 0.59183673 | Y6: =$F$6/D6 -> 0.64732143 | Z6: =$F$6/E6 -> 0.7967033 | AA6: =$F$6/F6 -> 1 | AB6: =$L$6/G6 -> 0.62546816 | AC6: =$L$6/H6 -> 0.60071942 | AD6: =$L$6/I6 -> 0.67886179 | AE6: =$L$6/J6 -> 0.64980545 | AF6: =$L$6/K6 -> 0.81862745 | AG6: =$L$6/L6 -> 1 | AI6: 夜間対応型訪問介護 | AJ6: 対象 | AM6: 訪問入浴介護 | AN6: 訪問入浴介護R8 | AO6: 申請時点でケアプランデータ連携システムを利用している | AP6: 申請後、ケアプランデータ連携システムに加入し、利用している | AQ6: 社会福祉連携推進法人に所属 | AR6: 申請時、令和８年度特例要件を満たすこととしていない
A7: 定期巡回･随時対応型訪問介護看護 | B7: 76 | C7: 0.245 | D7: 0.224 | E7: 0.182 | F7: 0.145 | G7: 0.267 | H7: 0.278 | I7: 0.246 | J7: 0.257 | K7: 0.204 | L7: 0.167 | N7: 加算対象 | O7: その他 | S7: 処遇改善加算Ⅳ | V7: 定期巡回･随時対応型訪問介護看護 | W7: 76 | X7: =$F$7/C7 -> 0.59183673 | Y7: =$F$7/D7 -> 0.64732143 | Z7: =$F$7/E7 -> 0.7967033 | AA7: =$F$7/F7 -> 1 | AB7: =$L$7/G7 -> 0.62546816 | AC7: =$L$7/H7 -> 0.60071942 | AD7: =$L$7/I7 -> 0.67886179 | AE7: =$L$7/J7 -> 0.64980545 | AF7: =$L$7/K7 -> 0.81862745 | AG7: =$L$7/L7 -> 1 | AI7: 定期巡回･随時対応型訪問介護看護 | AJ7: 対象 | AM7: 介護予防訪問入浴介護 | AN7: 介護予防訪問入浴介護R8 | AO7: 申請時点でケアプランデータ連携システムを利用している | AP7: 申請後、ケアプランデータ連携システムに加入し、利用している | AQ7: 社会福祉連携推進法人に所属 | AR7: 申請時、令和８年度特例要件を満たすこととしていない
A8: 訪問入浴介護 | B8: 12 | C8: 0.1 | D8: 0.094 | E8: 0.079 | F8: 0.063 | G8: 0.122 | H8: 0.133 | I8: 0.116 | J8: 0.127 | K8: 0.101 | L8: 0.085 | N8: 加算対象 | O8: その他 | V8: 訪問入浴介護 | W8: 12 | X8: =$F$8/C8 -> 0.63 | Y8: =$F$8/D8 -> 0.67021277 | Z8: =$F$8/E8 -> 0.79746835 | AA8: =$F$8/F8 -> 1 | AB8: =$L$8/G8 -> 0.69672131 | AC8: =$L$8/H8 -> 0.63909774 | AD8: =$L$8/I8 -> 0.73275862 | AE8: =$L$8/J8 -> 0.66929134 | AF8: =$L$8/K8 -> 0.84158416 | AG8: =$L$8/L8 -> 1 | AI8: 訪問入浴介護 | AJ8: 対象 | AM8: 通所介護 | AN8: 通所介護R8 | AO8: 申請時点でケアプランデータ連携システムを利用している | AP8: 申請後、ケアプランデータ連携システムに加入し、利用している | AQ8: 社会福祉連携推進法人に所属 | AR8: 申請時、令和８年度特例要件を満たすこととしていない
A9: 介護予防訪問入浴介護 | B9: 62 | C9: 0.1 | D9: 0.094 | E9: 0.079 | F9: 0.063 | G9: 0.122 | H9: 0.133 | I9: 0.116 | J9: 0.127 | K9: 0.101 | L9: 0.085 | N9: 加算対象 | O9: 介護予防 | S9: ６月以降の算定可能加算 | V9: 介護予防訪問入浴介護 | W9: 62 | X9: =$F$9/C9 -> 0.63 | Y9: =$F$9/D9 -> 0.67021277 | Z9: =$F$9/E9 -> 0.79746835 | AA9: =$F$9/F9 -> 1 | AB9: =$L$9/G9 -> 0.69672131 | AC9: =$L$9/H9 -> 0.63909774 | AD9: =$L$9/I9 -> 0.73275862 | AE9: =$L$9/J9 -> 0.66929134 | AF9: =$L$9/K9 -> 0.84158416 | AG9: =$L$9/L9 -> 1 | AI9: 介護予防訪問入浴介護 | AJ9: 対象外 | AM9: 地域密着型通所介護 | AN9: 地域密着型通所介護R8 | AO9: 申請時点でケアプランデータ連携システムを利用している | AP9: 申請後、ケアプランデータ連携システムに加入し、利用している | AQ9: 社会福祉連携推進法人に所属 | AR9: 申請時、令和８年度特例要件を満たすこととしていない
A10: 通所介護 | B10: 15 | C10: 0.092 | D10: 0.09 | E10: 0.08 | F10: 0.064 | G10: 0.111 | H10: 0.12 | I10: 0.109 | J10: 0.118 | K10: 0.099 | L10: 0.083 | N10: 加算対象 | O10: その他 | S10: 加算対象 | T10: 加算対象外 | V10: 通所介護 | W10: 15 | X10: =$F$10/C10 -> 0.69565217 | Y10: =$F$10/D10 -> 0.71111111 | Z10: =$F$10/E10 -> 0.8 | AA10: =$F$10/F10 -> 1 | AB10: =$L$10/G10 -> 0.74774775 | AC10: =$L$10/H10 -> 0.69166667 | AD10: =$L$10/I10 -> 0.76146789 | AE10: =$L$10/J10 -> 0.70338983 | AF10: =$L$10/K10 -> 0.83838384 | AG10: =$L$10/L10 -> 1 | AI10: 通所介護 | AJ10: 対象 | AM10: 通所リハビリテーション | AN10: 通所リハビリテーションR8 | AO10: 申請時点でケアプランデータ連携システムを利用している | AP10: 申請後、ケアプランデータ連携システムに加入し、利用している | AQ10: 社会福祉連携推進法人に所属 | AR10: 申請時、令和８年度特例要件を満たすこととしていない
A11: 地域密着型通所介護 | B11: 78 | C11: 0.092 | D11: 0.09 | E11: 0.08 | F11: 0.064 | G11: 0.117 | H11: 0.127 | I11: 0.115 | J11: 0.125 | K11: 0.105 | L11: 0.089 | N11: 加算対象 | O11: その他 | S11: 処遇改善加算Ⅰイ | T11: 処遇改善加算 | V11: 地域密着型通所介護 | W11: 78 | X11: =$F$11/C11 -> 0.69565217 | Y11: =$F$11/D11 -> 0.71111111 | Z11: =$F$11/E11 -> 0.8 | AA11: =$F$11/F11 -> 1 | AB11: =$L$11/G11 -> 0.76068376 | AC11: =$L$11/H11 -> 0.7007874 | AD11: =$L$11/I11 -> 0.77391304 | AE11: =$L$11/J11 -> 0.712 | AF11: =$L$11/K11 -> 0.84761905 | AG11: =$L$11/L11 -> 1 | AI11: 地域密着型通所介護 | AJ11: 対象 | AM11: 介護予防通所リハビリテーション | AN11: 介護予防通所リハビリテーションR8 | AO11: 申請時点でケアプランデータ連携システムを利用している | AP11: 申請後、ケアプランデータ連携システムに加入し、利用している | AQ11: 社会福祉連携推進法人に所属 | AR11: 申請時、令和８年度特例要件を満たすこととしていない
A12: 通所リハビリテーション | B12: 16 | C12: 0.086 | D12: 0.083 | E12: 0.066 | F12: 0.053 | G12: 0.103 | H12: 0.111 | I12: 0.1 | J12: 0.108 | K12: 0.083 | L12: 0.07 | N12: 加算対象 | O12: その他 | S12: 処遇改善加算Ⅰロ | V12: 通所リハビリテーション | W12: 16 | X12: =$F$12/C12 -> 0.61627907 | Y12: =$F$12/D12 -> 0.63855422 | Z12: =$F$12/E12 -> 0.8030303 | AA12: =$F$12/F12 -> 1 | AB12: =$L$12/G12 -> 0.67961165 | AC12: =$L$12/H12 -> 0.63063063 | AD12: =$L$12/I12 -> 0.7 | AE12: =$L$12/J12 -> 0.64814815 | AF12: =$L$12/K12 -> 0.84337349 | AG12: =$L$12/L12 -> 1 | AI12: 通所リハビリテーション | AJ12: 対象 | AM12: 特定施設入居者生活介護 | AN12: 特定施設入居者生活介護R8 | AO12: 申請時点で生産性向上推進体制加算Ⅰ又はⅡを算定済 | AP12: 申請後、生産性向上推進体制加算Ⅰ又はⅡを算定 | AQ12: 社会福祉連携推進法人に所属 | AR12: 申請時、令和８年度特例要件を満たすこととしていない
A13: 介護予防通所リハビリテーション | B13: 66 | C13: 0.086 | D13: 0.083 | E13: 0.066 | F13: 0.053 | G13: 0.103 | H13: 0.111 | I13: 0.1 | J13: 0.108 | K13: 0.083 | L13: 0.07 | N13: 加算対象 | O13: 介護予防 | S13: 処遇改善加算Ⅱイ | V13: 介護予防通所リハビリテーション | W13: 66 | X13: =$F$13/C13 -> 0.61627907 | Y13: =$F$13/D13 -> 0.63855422 | Z13: =$F$13/E13 -> 0.8030303 | AA13: =$F$13/F13 -> 1 | AB13: =$L$13/G13 -> 0.67961165 | AC13: =$L$13/H13 -> 0.63063063 | AD13: =$L$13/I13 -> 0.7 | AE13: =$L$13/J13 -> 0.64814815 | AF13: =$L$13/K13 -> 0.84337349 | AG13: =$L$13/L13 -> 1 | AI13: 介護予防通所リハビリテーション | AJ13: 対象外 | AM13: 特定施設入居者生活介護（短期利用型） | AN13: 特定施設入居者生活介護_短期利用型_R8 | AO13: 申請時点で生産性向上推進体制加算Ⅰ又はⅡを算定済 | AP13: 申請後、生産性向上推進体制加算Ⅰ又はⅡを算定 | AQ13: 社会福祉連携推進法人に所属 | AR13: 申請時、令和８年度特例要件を満たすこととしていない
A14: 特定施設入居者生活介護 | B14: 33 | C14: 0.128 | D14: 0.122 | E14: 0.11 | F14: 0.088 | G14: 0.148 | H14: 0.159 | I14: 0.142 | J14: 0.153 | K14: 0.13 | L14: 0.108 | N14: 加算対象 | O14: その他 | S14: 処遇改善加算Ⅱロ | V14: 特定施設入居者生活介護 | W14: 33 | X14: =$F$14/C14 -> 0.6875 | Y14: =$F$14/D14 -> 0.72131148 | Z14: =$F$14/E14 -> 0.8 | AA14: =$F$14/F14 -> 1 | AB14: =$L$14/G14 -> 0.72972973 | AC14: =$L$14/H14 -> 0.67924528 | AD14: =$L$14/I14 -> 0.76056338 | AE14: =$L$14/J14 -> 0.70588235 | AF14: =$L$14/K14 -> 0.83076923 | AG14: =$L$14/L14 -> 1 | AI14: 特定施設入居者生活介護 | AJ14: 対象 | AM14: 介護予防特定施設入居者生活介護 | AN14: 介護予防特定施設入居者生活介護R8 | AO14: 申請時点で生産性向上推進体制加算Ⅰ又はⅡを算定済 | AP14: 申請後、生産性向上推進体制加算Ⅰ又はⅡを算定 | AQ14: 社会福祉連携推進法人に所属 | AR14: 申請時、令和８年度特例要件を満たすこととしていない
A15: 特定施設入居者生活介護（短期利用型） | B15: 27 | C15: 0.128 | D15: 0.122 | E15: 0.11 | F15: 0.088 | G15: 0.148 | H15: 0.159 | I15: 0.142 | J15: 0.153 | K15: 0.13 | L15: 0.108 | N15: 加算対象 | O15: 短期利用型 | S15: 処遇改善加算Ⅲ | V15: 特定施設入居者生活介護（短期利用型） | W15: 27 | X15: =$F$15/C15 -> 0.6875 | Y15: =$F$15/D15 -> 0.72131148 | Z15: =$F$15/E15 -> 0.8 | AA15: =$F$15/F15 -> 1 | AB15: =$L$15/G15 -> 0.72972973 | AC15: =$L$15/H15 -> 0.67924528 | AD15: =$L$15/I15 -> 0.76056338 | AE15: =$L$15/J15 -> 0.70588235 | AF15: =$L$15/K15 -> 0.83076923 | AG15: =$L$15/L15 -> 1 | AI15: 特定施設入居者生活介護（短期利用型） | AJ15: 対象外 | AM15: 地域密着型特定施設入居者生活介護 | AN15: 地域密着型特定施設入居者生活介護R8 | AO15: 申請時点で生産性向上推進体制加算Ⅰ又はⅡを算定済 | AP15: 申請後、生産性向上推進体制加算Ⅰ又はⅡを算定 | AQ15: 社会福祉連携推進法人に所属 | AR15: 申請時、令和８年度特例要件を満たすこととしていない
A16: 介護予防特定施設入居者生活介護 | B16: 35 | C16: 0.128 | D16: 0.122 | E16: 0.11 | F16: 0.088 | G16: 0.148 | H16: 0.159 | I16: 0.142 | J16: 0.153 | K16: 0.13 | L16: 0.108 | N16: 加算対象 | O16: 介護予防 | S16: 処遇改善加算Ⅳ | V16: 介護予防特定施設入居者生活介護 | W16: 35 | X16: =$F$16/C16 -> 0.6875 | Y16: =$F$16/D16 -> 0.72131148 | Z16: =$F$16/E16 -> 0.8 | AA16: =$F$16/F16 -> 1 | AB16: =$L$16/G16 -> 0.72972973 | AC16: =$L$16/H16 -> 0.67924528 | AD16: =$L$16/I16 -> 0.76056338 | AE16: =$L$16/J16 -> 0.70588235 | AF16: =$L$16/K16 -> 0.83076923 | AG16: =$L$16/L16 -> 1 | AI16: 介護予防特定施設入居者生活介護 | AJ16: 対象外 | AM16: 地域密着型特定施設入居者生活介護（短期利用型） | AN16: 地域密着型特定施設入居者生活介護_短期利用型_R8 | AO16: 申請時点で生産性向上推進体制加算Ⅰ又はⅡを算定済 | AP16: 申請後、生産性向上推進体制加算Ⅰ又はⅡを算定 | AQ16: 社会福祉連携推進法人に所属 | AR16: 申請時、令和８年度特例要件を満たすこととしていない
A17: 地域密着型特定施設入居者生活介護 | B17: 36 | C17: 0.128 | D17: 0.122 | E17: 0.11 | F17: 0.088 | G17: 0.148 | H17: 0.159 | I17: 0.142 | J17: 0.153 | K17: 0.13 | L17: 0.108 | N17: 加算対象 | O17: その他 | V17: 地域密着型特定施設入居者生活介護 | W17: 36 | X17: =$F$18/C17 -> 0.6875 | Y17: =$F$18/D17 -> 0.72131148 | Z17: =$F$18/E17 -> 0.8 | AA17: =$F$18/F17 -> 1 | AB17: =$L$18/G17 -> 0.72972973 | AC17: =$L$18/H17 -> 0.67924528 | AD17: =$L$18/I17 -> 0.76056338 | AE17: =$L$18/J17 -> 0.70588235 | AF17: =$L$18/K17 -> 0.83076923 | AG17: =$L$18/L17 -> 1 | AI17: 地域密着型特定施設入居者生活介護 | AJ17: 対象 | AM17: 認知症対応型通所介護 | AN17: 認知症対応型通所介護R8 | AO17: 申請時点でケアプランデータ連携システムを利用している | AP17: 申請後、ケアプランデータ連携システムに加入し、利用している | AQ17: 社会福祉連携推進法人に所属 | AR17: 申請時、令和８年度特例要件を満たすこととしていない
A18: 地域密着型特定施設入居者生活介護（短期利用型） | B18: 28 | C18: 0.128 | D18: 0.122 | E18: 0.11 | F18: 0.088 | G18: 0.148 | H18: 0.159 | I18: 0.142 | J18: 0.153 | K18: 0.13 | L18: 0.108 | N18: 加算対象 | O18: 短期利用型 | V18: 地域密着型特定施設入居者生活介護（短期利用型） | W18: 28 | X18: =$F$18/C18 -> 0.6875 | Y18: =$F$18/D18 -> 0.72131148 | Z18: =$F$18/E18 -> 0.8 | AA18: =$F$18/F18 -> 1 | AB18: =$L$18/G18 -> 0.72972973 | AC18: =$L$18/H18 -> 0.67924528 | AD18: =$L$18/I18 -> 0.76056338 | AE18: =$L$18/J18 -> 0.70588235 | AF18: =$L$18/K18 -> 0.83076923 | AG18: =$L$18/L18 -> 1 | AI18: 地域密着型特定施設入居者生活介護（短期利用型） | AJ18: 対象外 | AM18: 介護予防認知症対応型通所介護 | AN18: 介護予防認知症対応型通所介護R8 | AO18: 申請時点でケアプランデータ連携システムを利用している | AP18: 申請後、ケアプランデータ連携システムに加入し、利用している | AQ18: 社会福祉連携推進法人に所属 | AR18: 申請時、令和８年度特例要件を満たすこととしていない
A19: 認知症対応型通所介護 | B19: 72 | C19: 0.181 | D19: 0.174 | E19: 0.15 | F19: 0.122 | G19: 0.216 | H19: 0.236 | I19: 0.209 | J19: 0.229 | K19: 0.185 | L19: 0.157 | N19: 加算対象 | O19: その他 | V19: 認知症対応型通所介護 | W19: 72 | X19: =$F$19/C19 -> 0.67403315 | Y19: =$F$19/D19 -> 0.70114943 | Z19: =$F$19/E19 -> 0.81333333 | AA19: =$F$19/F19 -> 1 | AB19: =$L$19/G19 -> 0.72685185 | AC19: =$L$19/H19 -> 0.66525424 | AD19: =$L$19/I19 -> 0.75119617 | AE19: =$L$19/J19 -> 0.68558952 | AF19: =$L$19/K19 -> 0.84864865 | AG19: =$L$19/L19 -> 1 | AI19: 認知症対応型通所介護 | AJ19: 対象 | AM19: 小規模多機能型居宅介護 | AN19: 小規模多機能型居宅介護R8 | AO19: 申請時点で生産性向上推進体制加算Ⅰ又はⅡを算定済 | AP19: 申請後、生産性向上推進体制加算Ⅰ又はⅡを算定 | AQ19: 申請時点でケアプランデータ連携システムを利用している | AR19: 申請後、ケアプランデータ連携システムに加入し、利用している | AS19: 社会福祉連携推進法人に所属 | AT19: 申請時、令和８年度特例要件を満たすこととしていない
A20: 介護予防認知症対応型通所介護 | B20: 74 | C20: 0.181 | D20: 0.174 | E20: 0.15 | F20: 0.122 | G20: 0.216 | H20: 0.236 | I20: 0.209 | J20: 0.229 | K20: 0.185 | L20: 0.157 | N20: 加算対象 | O20: 介護予防 | V20: 介護予防認知症対応型通所介護 | W20: 74 | X20: =$F$20/C20 -> 0.67403315 | Y20: =$F$20/D20 -> 0.70114943 | Z20: =$F$20/E20 -> 0.81333333 | AA20: =$F$20/F20 -> 1 | AB20: =$L$20/G20 -> 0.72685185 | AC20: =$L$20/H20 -> 0.66525424 | AD20: =$L$20/I20 -> 0.75119617 | AE20: =$L$20/J20 -> 0.68558952 | AF20: =$L$20/K20 -> 0.84864865 | AG20: =$L$20/L20 -> 1 | AI20: 介護予防認知症対応型通所介護 | AJ20: 対象外 | AM20: 小規模多機能型居宅介護（短期利用型） | AN20: 小規模多機能型居宅介護_短期利用型_R8 | AO20: 申請時点で生産性向上推進体制加算Ⅰ又はⅡを算定済 | AP20: 申請後、生産性向上推進体制加算Ⅰ又はⅡを算定 | AQ20: 申請時点でケアプランデータ連携システムを利用している | AR20: 申請後、ケアプランデータ連携システムに加入し、利用している | AS20: 社会福祉連携推進法人に所属 | AT20: 申請時、令和８年度特例要件を満たすこととしていない
A21: 小規模多機能型居宅介護 | B21: 73 | C21: 0.149 | D21: 0.146 | E21: 0.134 | F21: 0.106 | G21: 0.171 | H21: 0.186 | I21: 0.168 | J21: 0.183 | K21: 0.156 | L21: 0.128 | N21: 加算対象 | O21: その他 | V21: 小規模多機能型居宅介護 | W21: 73 | X21: =$F$21/C21 -> 0.7114094 | Y21: =$F$21/D21 -> 0.7260274 | Z21: =$F$21/E21 -> 0.79104478 | AA21: =$F$21/F21 -> 1 | AB21: =$L$21/G21 -> 0.74853801 | AC21: =$L$21/H21 -> 0.68817204 | AD21: =$L$21/I21 -> 0.76190476 | AE21: =$L$21/J21 -> 0.69945355 | AF21: =$L$21/K21 -> 0.82051282 | AG21: =$L$21/L21 -> 1 | AI21: 小規模多機能型居宅介護 | AJ21: 対象 | AM21: 介護予防小規模多機能型居宅介護 | AN21: 介護予防小規模多機能型居宅介護R8 | AO21: 申請時点で生産性向上推進体制加算Ⅰ又はⅡを算定済 | AP21: 申請後、生産性向上推進体制加算Ⅰ又はⅡを算定 | AQ21: 申請時点でケアプランデータ連携システムを利用している | AR21: 申請後、ケアプランデータ連携システムに加入し、利用している | AS21: 社会福祉連携推進法人に所属 | AT21: 申請時、令和８年度特例要件を満たすこととしていない
A22: 小規模多機能型居宅介護（短期利用型） | B22: 68 | C22: 0.149 | D22: 0.146 | E22: 0.134 | F22: 0.106 | G22: 0.171 | H22: 0.186 | I22: 0.168 | J22: 0.183 | K22: 0.156 | L22: 0.128 | N22: 加算対象 | O22: 短期利用型 | V22: 小規模多機能型居宅介護（短期利用型） | W22: 68 | X22: =$F$22/C22 -> 0.7114094 | Y22: =$F$22/D22 -> 0.7260274 | Z22: =$F$22/E22 -> 0.79104478 | AA22: =$F$22/F22 -> 1 | AB22: =$L$22/G22 -> 0.74853801 | AC22: =$L$22/H22 -> 0.68817204 | AD22: =$L$22/I22 -> 0.76190476 | AE22: =$L$22/J22 -> 0.69945355 | AF22: =$L$22/K22 -> 0.82051282 | AG22: =$L$22/L22 -> 1 | AI22: 小規模多機能型居宅介護（短期利用型） | AJ22: 対象外 | AM22: 介護予防小規模多機能型居宅介護（短期利用型） | AN22: 介護予防小規模多機能型居宅介護_短期利用型_R8 | AO22: 申請時点で生産性向上推進体制加算Ⅰ又はⅡを算定済 | AP22: 申請後、生産性向上推進体制加算Ⅰ又はⅡを算定 | AQ22: 申請時点でケアプランデータ連携システムを利用している | AR22: 申請後、ケアプランデータ連携システムに加入し、利用している | AS22: 社会福祉連携推進法人に所属 | AT22: 申請時、令和８年度特例要件を満たすこととしていない
A23: 介護予防小規模多機能型居宅介護 | B23: 75 | C23: 0.149 | D23: 0.146 | E23: 0.134 | F23: 0.106 | G23: 0.171 | H23: 0.186 | I23: 0.168 | J23: 0.183 | K23: 0.156 | L23: 0.128 | N23: 加算対象 | O23: 介護予防 | V23: 介護予防小規模多機能型居宅介護 | W23: 75 | X23: =$F$23/C23 -> 0.7114094 | Y23: =$F$23/D23 -> 0.7260274 | Z23: =$F$23/E23 -> 0.79104478 | AA23: =$F$23/F23 -> 1 | AB23: =$L$23/G23 -> 0.74853801 | AC23: =$L$23/H23 -> 0.68817204 | AD23: =$L$23/I23 -> 0.76190476 | AE23: =$L$23/J23 -> 0.69945355 | AF23: =$L$23/K23 -> 0.82051282 | AG23: =$L$23/L23 -> 1 | AI23: 介護予防小規模多機能型居宅介護 | AJ23: 対象外 | AM23: 看護小規模多機能型居宅介護 | AN23: 看護小規模多機能型居宅介護R8 | AO23: 申請時点で生産性向上推進体制加算Ⅰ又はⅡを算定済 | AP23: 申請後、生産性向上推進体制加算Ⅰ又はⅡを算定 | AQ23: 申請時点でケアプランデータ連携システムを利用している | AR23: 申請後、ケアプランデータ連携システムに加入し、利用している | AS23: 社会福祉連携推進法人に所属 | AT23: 申請時、令和８年度特例要件を満たすこととしていない
A24: 介護予防小規模多機能型居宅介護（短期利用型） | B24: 69 | C24: 0.149 | D24: 0.146 | E24: 0.134 | F24: 0.106 | G24: 0.171 | H24: 0.186 | I24: 0.168 | J24: 0.183 | K24: 0.156 | L24: 0.128 | N24: 加算対象 | O24: 介護予防・短期利用型 | V24: 介護予防小規模多機能型居宅介護（短期利用型） | W24: 69 | X24: =$F$24/C24 -> 0.7114094 | Y24: =$F$24/D24 -> 0.7260274 | Z24: =$F$24/E24 -> 0.79104478 | AA24: =$F$24/F24 -> 1 | AB24: =$L$24/G24 -> 0.74853801 | AC24: =$L$24/H24 -> 0.68817204 | AD24: =$L$24/I24 -> 0.76190476 | AE24: =$L$24/J24 -> 0.69945355 | AF24: =$L$24/K24 -> 0.82051282 | AG24: =$L$24/L24 -> 1 | AI24: 介護予防小規模多機能型居宅介護（短期利用型） | AJ24: 対象外 | AM24: 看護小規模多機能型居宅介護（短期利用型） | AN24: 看護小規模多機能型居宅介護_短期利用型_R8 | AO24: 申請時点で生産性向上推進体制加算Ⅰ又はⅡを算定済 | AP24: 申請後、生産性向上推進体制加算Ⅰ又はⅡを算定 | AQ24: 申請時点でケアプランデータ連携システムを利用している | AR24: 申請後、ケアプランデータ連携システムに加入し、利用している | AS24: 社会福祉連携推進法人に所属 | AT24: 申請時、令和８年度特例要件を満たすこととしていない
A25: 看護小規模多機能型居宅介護 | B25: 77 | C25: 0.149 | D25: 0.146 | E25: 0.134 | F25: 0.106 | G25: 0.168 | H25: 0.177 | I25: 0.165 | J25: 0.174 | K25: 0.153 | L25: 0.125 | N25: 加算対象 | O25: その他 | V25: 看護小規模多機能型居宅介護 | W25: 77 | X25: =$F$25/C25 -> 0.7114094 | Y25: =$F$25/D25 -> 0.7260274 | Z25: =$F$25/E25 -> 0.79104478 | AA25: =$F$25/F25 -> 1 | AB25: =$L$25/G25 -> 0.74404762 | AC25: =$L$25/H25 -> 0.70621469 | AD25: =$L$25/I25 -> 0.75757576 | AE25: =$L$25/J25 -> 0.7183908 | AF25: =$L$25/K25 -> 0.81699346 | AG25: =$L$25/L25 -> 1 | AI25: 看護小規模多機能型居宅介護 | AJ25: 対象 | AM25: 認知症対応型共同生活介護 | AN25: 認知症対応型共同生活介護R8 | AO25: 申請時点で生産性向上推進体制加算Ⅰ又はⅡを算定済 | AP25: 申請後、生産性向上推進体制加算Ⅰ又はⅡを算定 | AQ25: 社会福祉連携推進法人に所属 | AR25: 申請時、令和８年度特例要件を満たすこととしていない
A26: 看護小規模多機能型居宅介護（短期利用型） | B26: 79 | C26: 0.149 | D26: 0.146 | E26: 0.134 | F26: 0.106 | G26: 0.168 | H26: 0.177 | I26: 0.165 | J26: 0.174 | K26: 0.153 | L26: 0.125 | N26: 加算対象 | O26: 短期利用型 | V26: 看護小規模多機能型居宅介護（短期利用型） | W26: 79 | X26: =$F$26/C26 -> 0.7114094 | Y26: =$F$26/D26 -> 0.7260274 | Z26: =$F$26/E26 -> 0.79104478 | AA26: =$F$26/F26 -> 1 | AB26: =$L$26/G26 -> 0.74404762 | AC26: =$L$26/H26 -> 0.70621469 | AD26: =$L$26/I26 -> 0.75757576 | AE26: =$L$26/J26 -> 0.7183908 | AF26: =$L$26/K26 -> 0.81699346 | AG26: =$L$26/L26 -> 1 | AI26: 看護小規模多機能型居宅介護（短期利用型） | AJ26: 対象外 | AM26: 認知症対応型共同生活介護（短期利用型） | AN26: 認知症対応型共同生活介護_短期利用型_R8 | AO26: 申請時点で生産性向上推進体制加算Ⅰ又はⅡを算定済 | AP26: 申請後、生産性向上推進体制加算Ⅰ又はⅡを算定 | AQ26: 社会福祉連携推進法人に所属 | AR26: 申請時、令和８年度特例要件を満たすこととしていない
A27: 認知症対応型共同生活介護 | B27: 32 | C27: 0.186 | D27: 0.178 | E27: 0.155 | F27: 0.125 | G27: 0.21 | H27: 0.228 | I27: 0.202 | J27: 0.22 | K27: 0.179 | L27: 0.149 | N27: 加算対象 | O27: その他 | V27: 認知症対応型共同生活介護 | W27: 32 | X27: =$F$27/C27 -> 0.67204301 | Y27: =$F$27/D27 -> 0.70224719 | Z27: =$F$27/E27 -> 0.80645161 | AA27: =$F$27/F27 -> 1 | AB27: =$L$27/G27 -> 0.70952381 | AC27: =$L$27/H27 -> 0.65350877 | AD27: =$L$27/I27 -> 0.73762376 | AE27: =$L$27/J27 -> 0.67727273 | AF27: =$L$27/K27 -> 0.83240223 | AG27: =$L$27/L27 -> 1 | AI27: 認知症対応型共同生活介護 | AJ27: 対象 | AM27: 介護予防認知症対応型共同生活介護 | AN27: 介護予防認知症対応型共同生活介護R8 | AO27: 申請時点で生産性向上推進体制加算Ⅰ又はⅡを算定済 | AP27: 申請後、生産性向上推進体制加算Ⅰ又はⅡを算定 | AQ27: 社会福祉連携推進法人に所属 | AR27: 申請時、令和８年度特例要件を満たすこととしていない
A28: 認知症対応型共同生活介護（短期利用型） | B28: 38 | C28: 0.186 | D28: 0.178 | E28: 0.155 | F28: 0.125 | G28: 0.21 | H28: 0.228 | I28: 0.202 | J28: 0.22 | K28: 0.179 | L28: 0.149 | N28: 加算対象 | O28: 短期利用型 | V28: 認知症対応型共同生活介護（短期利用型） | W28: 38 | X28: =$F$28/C28 -> 0.67204301 | Y28: =$F$28/D28 -> 0.70224719 | Z28: =$F$28/E28 -> 0.80645161 | AA28: =$F$28/F28 -> 1 | AB28: =$L$28/G28 -> 0.70952381 | AC28: =$L$28/H28 -> 0.65350877 | AD28: =$L$28/I28 -> 0.73762376 | AE28: =$L$28/J28 -> 0.67727273 | AF28: =$L$28/K28 -> 0.83240223 | AG28: =$L$28/L28 -> 1 | AI28: 認知症対応型共同生活介護（短期利用型） | AJ28: 対象外 | AM28: 介護予防認知症対応型共同生活介護（短期利用型） | AN28: 介護予防認知症対応型共同生活介護_短期利用型_R8 | AO28: 申請時点で生産性向上推進体制加算Ⅰ又はⅡを算定済 | AP28: 申請後、生産性向上推進体制加算Ⅰ又はⅡを算定 | AQ28: 社会福祉連携推進法人に所属 | AR28: 申請時、令和８年度特例要件を満たすこととしていない
A29: 介護予防認知症対応型共同生活介護 | B29: 37 | C29: 0.186 | D29: 0.178 | E29: 0.155 | F29: 0.125 | G29: 0.21 | H29: 0.228 | I29: 0.202 | J29: 0.22 | K29: 0.179 | L29: 0.149 | N29: 加算対象 | O29: 介護予防 | V29: 介護予防認知症対応型共同生活介護 | W29: 37 | X29: =$F$29/C29 -> 0.67204301 | Y29: =$F$29/D29 -> 0.70224719 | Z29: =$F$29/E29 -> 0.80645161 | AA29: =$F$29/F29 -> 1 | AB29: =$L$29/G29 -> 0.70952381 | AC29: =$L$29/H29 -> 0.65350877 | AD29: =$L$29/I29 -> 0.73762376 | AE29: =$L$29/J29 -> 0.67727273 | AF29: =$L$29/K29 -> 0.83240223 | AG29: =$L$29/L29 -> 1 | AI29: 介護予防認知症対応型共同生活介護 | AJ29: 対象外 | AM29: 介護老人福祉施設 | AN29: 介護老人福祉施設R8 | AO29: 申請時点で生産性向上推進体制加算Ⅰ又はⅡを算定済 | AP29: 申請後、生産性向上推進体制加算Ⅰ又はⅡを算定 | AQ29: 社会福祉連携推進法人に所属 | AR29: 申請時、令和８年度特例要件を満たすこととしていない
A30: 介護予防認知症対応型共同生活介護（短期利用型） | B30: 39 | C30: 0.186 | D30: 0.178 | E30: 0.155 | F30: 0.125 | G30: 0.21 | H30: 0.228 | I30: 0.202 | J30: 0.22 | K30: 0.179 | L30: 0.149 | N30: 加算対象 | O30: 介護予防・短期利用型 | V30: 介護予防認知症対応型共同生活介護（短期利用型） | W30: 39 | X30: =$F$30/C30 -> 0.67204301 | Y30: =$F$30/D30 -> 0.70224719 | Z30: =$F$30/E30 -> 0.80645161 | AA30: =$F$30/F30 -> 1 | AB30: =$L$30/G30 -> 0.70952381 | AC30: =$L$30/H30 -> 0.65350877 | AD30: =$L$30/I30 -> 0.73762376 | AE30: =$L$30/J30 -> 0.67727273 | AF30: =$L$30/K30 -> 0.83240223 | AG30: =$L$30/L30 -> 1 | AI30: 介護予防認知症対応型共同生活介護（短期利用型） | AJ30: 対象外 | AM30: 地域密着型介護老人福祉施設 | AN30: 地域密着型介護老人福祉施設R8 | AO30: 申請時点で生産性向上推進体制加算Ⅰ又はⅡを算定済 | AP30: 申請後、生産性向上推進体制加算Ⅰ又はⅡを算定 | AQ30: 社会福祉連携推進法人に所属 | AR30: 申請時、令和８年度特例要件を満たすこととしていない
A31: 介護老人福祉施設 | B31: 51 | C31: 0.14 | D31: 0.136 | E31: 0.113 | F31: 0.09 | G31: 0.163 | H31: 0.176 | I31: 0.159 | J31: 0.172 | K31: 0.136 | L31: 0.113 | N31: 加算対象 | O31: その他 | V31: 介護老人福祉施設 | W31: 51 | X31: =$F$31/C31 -> 0.64285714 | Y31: =$F$31/D31 -> 0.66176471 | Z31: =$F$31/E31 -> 0.79646018 | AA31: =$F$31/F31 -> 1 | AB31: =$L$31/G31 -> 0.69325153 | AC31: =$L$31/H31 -> 0.64204545 | AD31: =$L$31/I31 -> 0.71069182 | AE31: =$L$31/J31 -> 0.65697674 | AF31: =$L$31/K31 -> 0.83088235 | AG31: =$L$31/L31 -> 1 | AI31: 介護老人福祉施設 | AJ31: 対象 | AM31: 短期入所生活介護 | AN31: 短期入所生活介護R8 | AO31: 申請時点で生産性向上推進体制加算Ⅰ又はⅡを算定済 | AP31: 申請後、生産性向上推進体制加算Ⅰ又はⅡを算定 | AQ31: 申請時点でケアプランデータ連携システムを利用している | AR31: 申請後、ケアプランデータ連携システムに加入し、利用している | AS31: 社会福祉連携推進法人に所属 | AT31: 申請時、令和８年度特例要件を満たすこととしていない
A32: 地域密着型介護老人福祉施設 | B32: 54 | C32: 0.14 | D32: 0.136 | E32: 0.113 | F32: 0.09 | G32: 0.163 | H32: 0.176 | I32: 0.159 | J32: 0.172 | K32: 0.136 | L32: 0.113 | N32: 加算対象 | O32: その他 | V32: 地域密着型介護老人福祉施設 | W32: 54 | X32: =$F$32/C32 -> 0.64285714 | Y32: =$F$32/D32 -> 0.66176471 | Z32: =$F$32/E32 -> 0.79646018 | AA32: =$F$32/F32 -> 1 | AB32: =$L$32/G32 -> 0.69325153 | AC32: =$L$32/H32 -> 0.64204545 | AD32: =$L$32/I32 -> 0.71069182 | AE32: =$L$32/J32 -> 0.65697674 | AF32: =$L$32/K32 -> 0.83088235 | AG32: =$L$32/L32 -> 1 | AI32: 地域密着型介護老人福祉施設 | AJ32: 対象 | AM32: 介護予防短期入所生活介護 | AN32: 介護予防短期入所生活介護R8 | AO32: 申請時点で生産性向上推進体制加算Ⅰ又はⅡを算定済 | AP32: 申請後、生産性向上推進体制加算Ⅰ又はⅡを算定 | AQ32: 申請時点でケアプランデータ連携システムを利用している | AR32: 申請後、ケアプランデータ連携システムに加入し、利用している | AS32: 社会福祉連携推進法人に所属 | AT32: 申請時、令和８年度特例要件を満たすこととしていない
A33: 短期入所生活介護 | B33: 21 | C33: 0.14 | D33: 0.136 | E33: 0.113 | F33: 0.09 | G33: 0.163 | H33: 0.176 | I33: 0.159 | J33: 0.172 | K33: 0.136 | L33: 0.113 | N33: 加算対象 | O33: その他 | V33: 短期入所生活介護 | W33: 21 | X33: =$F$33/C33 -> 0.64285714 | Y33: =$F$33/D33 -> 0.66176471 | Z33: =$F$33/E33 -> 0.79646018 | AA33: =$F$33/F33 -> 1 | AB33: =$L$33/G33 -> 0.69325153 | AC33: =$L$33/H33 -> 0.64204545 | AD33: =$L$33/I33 -> 0.71069182 | AE33: =$L$33/J33 -> 0.65697674 | AF33: =$L$33/K33 -> 0.83088235 | AG33: =$L$33/L33 -> 1 | AI33: 短期入所生活介護 | AJ33: 対象外 | AM33: 介護老人保健施設 | AN33: 介護老人保健施設R8 | AO33: 申請時点で生産性向上推進体制加算Ⅰ又はⅡを算定済 | AP33: 申請後、生産性向上推進体制加算Ⅰ又はⅡを算定 | AQ33: 社会福祉連携推進法人に所属 | AR33: 申請時、令和８年度特例要件を満たすこととしていない
A34: 介護予防短期入所生活介護 | B34: 24 | C34: 0.14 | D34: 0.136 | E34: 0.113 | F34: 0.09 | G34: 0.163 | H34: 0.176 | I34: 0.159 | J34: 0.172 | K34: 0.136 | L34: 0.113 | N34: 加算対象 | O34: 介護予防 | V34: 介護予防短期入所生活介護 | W34: 24 | X34: =$F$34/C34 -> 0.64285714 | Y34: =$F$34/D34 -> 0.66176471 | Z34: =$F$34/E34 -> 0.79646018 | AA34: =$F$34/F34 -> 1 | AB34: =$L$34/G34 -> 0.69325153 | AC34: =$L$34/H34 -> 0.64204545 | AD34: =$L$34/I34 -> 0.71069182 | AE34: =$L$34/J34 -> 0.65697674 | AF34: =$L$34/K34 -> 0.83088235 | AG34: =$L$34/L34 -> 1 | AI34: 介護予防短期入所生活介護 | AJ34: 対象外 | AM34: 短期入所療養介護（老健） | AN34: 短期入所療養介護_老健_R8 | AO34: 申請時点で生産性向上推進体制加算Ⅰ又はⅡを算定済 | AP34: 申請後、生産性向上推進体制加算Ⅰ又はⅡを算定 | AQ34: 申請時点でケアプランデータ連携システムを利用している | AR34: 申請後、ケアプランデータ連携システムに加入し、利用している | AS34: 社会福祉連携推進法人に所属 | AT34: 申請時、令和８年度特例要件を満たすこととしていない
A35: 介護老人保健施設 | B35: 52 | C35: 0.075 | D35: 0.071 | E35: 0.054 | F35: 0.044 | G35: 0.09 | H35: 0.097 | I35: 0.086 | J35: 0.093 | K35: 0.069 | L35: 0.059 | N35: 加算対象 | O35: その他 | V35: 介護老人保健施設 | W35: 52 | X35: =$F$35/C35 -> 0.58666667 | Y35: =$F$35/D35 -> 0.61971831 | Z35: =$F$35/E35 -> 0.81481481 | AA35: =$F$35/F35 -> 1 | AB35: =$L$35/G35 -> 0.65555556 | AC35: =$L$35/H35 -> 0.60824742 | AD35: =$L$35/I35 -> 0.68604651 | AE35: =$L$35/J35 -> 0.6344086 | AF35: =$L$35/K35 -> 0.85507246 | AG35: =$L$35/L35 -> 1 | AI35: 介護老人保健施設 | AJ35: 対象 | AM35: 介護予防短期入所療養介護（老健） | AN35: 介護予防短期入所療養介護_老健_R8 | AO35: 申請時点で生産性向上推進体制加算Ⅰ又はⅡを算定済 | AP35: 申請後、生産性向上推進体制加算Ⅰ又はⅡを算定 | AQ35: 申請時点でケアプランデータ連携システムを利用している | AR35: 申請後、ケアプランデータ連携システムに加入し、利用している | AS35: 社会福祉連携推進法人に所属 | AT35: 申請時、令和８年度特例要件を満たすこととしていない
A36: 短期入所療養介護（老健） | B36: 22 | C36: 0.075 | D36: 0.071 | E36: 0.054 | F36: 0.044 | G36: 0.09 | H36: 0.097 | I36: 0.086 | J36: 0.093 | K36: 0.069 | L36: 0.059 | N36: 加算対象 | O36: その他 | V36: 短期入所療養介護（老健） | W36: 22 | X36: =$F$36/C36 -> 0.58666667 | Y36: =$F$36/D36 -> 0.61971831 | Z36: =$F$36/E36 -> 0.81481481 | AA36: =$F$36/F36 -> 1 | AB36: =$L$36/G36 -> 0.65555556 | AC36: =$L$36/H36 -> 0.60824742 | AD36: =$L$36/I36 -> 0.68604651 | AE36: =$L$36/J36 -> 0.6344086 | AF36: =$L$36/K36 -> 0.85507246 | AG36: =$L$36/L36 -> 1 | AI36: 短期入所療養介護（老健） | AJ36: 対象外 | AM36: 短期入所療養介護（病院等） | AN36: 短期入所療養介護_病院等_R8 | AO36: 申請時点で生産性向上推進体制加算Ⅰ又はⅡを算定済 | AP36: 申請後、生産性向上推進体制加算Ⅰ又はⅡを算定 | AQ36: 申請時点でケアプランデータ連携システムを利用している | AR36: 申請後、ケアプランデータ連携システムに加入し、利用している | AS36: 社会福祉連携推進法人に所属 | AT36: 申請時、令和８年度特例要件を満たすこととしていない
A37: 介護予防短期入所療養介護（老健） | B37: 25 | C37: 0.075 | D37: 0.071 | E37: 0.054 | F37: 0.044 | G37: 0.09 | H37: 0.097 | I37: 0.086 | J37: 0.093 | K37: 0.069 | L37: 0.059 | N37: 加算対象 | O37: 介護予防 | V37: 介護予防短期入所療養介護（老健） | W37: 25 | X37: =$F$37/C37 -> 0.58666667 | Y37: =$F$37/D37 -> 0.61971831 | Z37: =$F$37/E37 -> 0.81481481 | AA37: =$F$37/F37 -> 1 | AB37: =$L$37/G37 -> 0.65555556 | AC37: =$L$37/H37 -> 0.60824742 | AD37: =$L$37/I37 -> 0.68604651 | AE37: =$L$37/J37 -> 0.6344086 | AF37: =$L$37/K37 -> 0.85507246 | AG37: =$L$37/L37 -> 1 | AI37: 介護予防短期入所療養介護（老健） | AJ37: 対象外 | AM37: 介護予防短期入所療養介護（病院等） | AN37: 介護予防短期入所療養介護_病院等_R8 | AO37: 申請時点で生産性向上推進体制加算Ⅰ又はⅡを算定済 | AP37: 申請後、生産性向上推進体制加算Ⅰ又はⅡを算定 | AQ37: 申請時点でケアプランデータ連携システムを利用している | AR37: 申請後、ケアプランデータ連携システムに加入し、利用している | AS37: 社会福祉連携推進法人に所属 | AT37: 申請時、令和８年度特例要件を満たすこととしていない
A38: 短期入所療養介護（病院等） | B38: 23 | C38: 0.051 | D38: 0.047 | E38: 0.036 | F38: 0.029 | G38: 0.062 | H38: 0.066 | I38: 0.058 | J38: 0.062 | K38: 0.047 | L38: 0.04 | N38: 加算対象 | O38: その他 | V38: 短期入所療養介護（病院等） | W38: 23 | X38: =$F$38/C38 -> 0.56862745 | Y38: =$F$38/D38 -> 0.61702128 | Z38: =$F$38/E38 -> 0.80555556 | AA38: =$F$38/F38 -> 1 | AB38: =$L$38/G38 -> 0.64516129 | AC38: =$L$38/H38 -> 0.60606061 | AD38: =$L$38/I38 -> 0.68965517 | AE38: =$L$38/J38 -> 0.64516129 | AF38: =$L$38/K38 -> 0.85106383 | AG38: =$L$38/L38 -> 1 | AI38: 短期入所療養介護（病院等） | AJ38: 対象外 | AM38: 介護医療院 | AN38: 介護医療院R8 | AO38: 申請時点で生産性向上推進体制加算Ⅰ又はⅡを算定済 | AP38: 申請後、生産性向上推進体制加算Ⅰ又はⅡを算定 | AQ38: 社会福祉連携推進法人に所属 | AR38: 申請時、令和８年度特例要件を満たすこととしていない
A39: 介護予防短期入所療養介護（病院等） | B39: 26 | C39: 0.051 | D39: 0.047 | E39: 0.036 | F39: 0.029 | G39: 0.062 | H39: 0.066 | I39: 0.058 | J39: 0.062 | K39: 0.047 | L39: 0.04 | N39: 加算対象 | O39: 介護予防 | V39: 介護予防短期入所療養介護（病院等） | W39: 26 | X39: =$F$39/C39 -> 0.56862745 | Y39: =$F$39/D39 -> 0.61702128 | Z39: =$F$39/E39 -> 0.80555556 | AA39: =$F$39/F39 -> 1 | AB39: =$L$39/G39 -> 0.64516129 | AC39: =$L$39/H39 -> 0.60606061 | AD39: =$L$39/I39 -> 0.68965517 | AE39: =$L$39/J39 -> 0.64516129 | AF39: =$L$39/K39 -> 0.85106383 | AG39: =$L$39/L39 -> 1 | AI39: 介護予防短期入所療養介護（病院等） | AJ39: 対象外 | AM39: 短期入所療養介護（医療院） | AN39: 短期入所療養介護_医療院_R8 | AO39: 申請時点で生産性向上推進体制加算Ⅰ又はⅡを算定済 | AP39: 申請後、生産性向上推進体制加算Ⅰ又はⅡを算定 | AQ39: 申請時点でケアプランデータ連携システムを利用している | AR39: 申請後、ケアプランデータ連携システムに加入し、利用している | AS39: 社会福祉連携推進法人に所属 | AT39: 申請時、令和８年度特例要件を満たすこととしていない
A40: 介護医療院 | B40: 55 | C40: 0.051 | D40: 0.047 | E40: 0.036 | F40: 0.029 | G40: 0.062 | H40: 0.066 | I40: 0.058 | J40: 0.062 | K40: 0.047 | L40: 0.04 | N40: 加算対象 | O40: その他 | V40: 介護医療院 | W40: 55 | X40: =$F$40/C40 -> 0.56862745 | Y40: =$F$40/D40 -> 0.61702128 | Z40: =$F$40/E40 -> 0.80555556 | AA40: =$F$40/F40 -> 1 | AB40: =$L$40/G40 -> 0.64516129 | AC40: =$L$40/H40 -> 0.60606061 | AD40: =$L$40/I40 -> 0.68965517 | AE40: =$L$40/J40 -> 0.64516129 | AF40: =$L$40/K40 -> 0.85106383 | AG40: =$L$40/L40 -> 1 | AI40: 介護医療院 | AJ40: 対象 | AM40: 介護予防短期入所療養介護 （医療院） | AN40: 介護予防短期入所療養介護_医療院_R8 | AO40: 申請時点で生産性向上推進体制加算Ⅰ又はⅡを算定済 | AP40: 申請後、生産性向上推進体制加算Ⅰ又はⅡを算定 | AQ40: 申請時点でケアプランデータ連携システムを利用している | AR40: 申請後、ケアプランデータ連携システムに加入し、利用している | AS40: 社会福祉連携推進法人に所属 | AT40: 申請時、令和８年度特例要件を満たすこととしていない
A41: 短期入所療養介護（医療院） | B41: 2A | C41: 0.051 | D41: 0.047 | E41: 0.036 | F41: 0.029 | G41: 0.062 | H41: 0.066 | I41: 0.058 | J41: 0.062 | K41: 0.047 | L41: 0.04 | N41: 加算対象 | O41: その他 | V41: 短期入所療養介護（医療院） | W41: 2A | X41: =$F$41/C41 -> 0.56862745 | Y41: =$F$41/D41 -> 0.61702128 | Z41: =$F$41/E41 -> 0.80555556 | AA41: =$F$41/F41 -> 1 | AB41: =$L$41/G41 -> 0.64516129 | AC41: =$L$41/H41 -> 0.60606061 | AD41: =$L$41/I41 -> 0.68965517 | AE41: =$L$41/J41 -> 0.64516129 | AF41: =$L$41/K41 -> 0.85106383 | AG41: =$L$41/L41 -> 1 | AI41: 短期入所療養介護（医療院） | AJ41: 対象外 | AM41: 訪問型サービス（独自） | AN41: 訪問型サービス_独自_R8 | AO41: 申請時点でケアプランデータ連携システムを利用している | AP41: 申請後、ケアプランデータ連携システムに加入し、利用している | AQ41: 社会福祉連携推進法人に所属 | AR41: 申請時、令和８年度特例要件を満たすこととしていない
A42: 介護予防短期入所療養介護 （医療院） | B42: 2B | C42: 0.051 | D42: 0.047 | E42: 0.036 | F42: 0.029 | G42: 0.062 | H42: 0.066 | I42: 0.058 | J42: 0.062 | K42: 0.047 | L42: 0.04 | N42: 加算対象 | O42: 介護予防 | V42: 介護予防短期入所療養介護 （医療院） | W42: 2B | X42: =$F$42/C42 -> 0.56862745 | Y42: =$F$42/D42 -> 0.61702128 | Z42: =$F$42/E42 -> 0.80555556 | AA42: =$F$42/F42 -> 1 | AB42: =$L$42/G42 -> 0.64516129 | AC42: =$L$42/H42 -> 0.60606061 | AD42: =$L$42/I42 -> 0.68965517 | AE42: =$L$42/J42 -> 0.64516129 | AF42: =$L$42/K42 -> 0.85106383 | AG42: =$L$42/L42 -> 1 | AI42: 介護予防短期入所療養介護 （医療院） | AJ42: 対象外 | AM42: 訪問型サービス（独自／定率） | AN42: 訪問型サービス_独自_定率_R8 | AO42: 申請時点でケアプランデータ連携システムを利用している | AP42: 申請後、ケアプランデータ連携システムに加入し、利用している | AQ42: 社会福祉連携推進法人に所属 | AR42: 申請時、令和８年度特例要件を満たすこととしていない
A43: 訪問型サービス（独自） | B43: A2 | C43: 0.245 | D43: 0.224 | E43: 0.182 | F43: 0.145 | G43: 0.27 | H43: 0.287 | I43: 0.249 | J43: 0.266 | K43: 0.207 | L43: 0.17 | N43: 加算対象 | O43: 総合事業 | V43: 訪問型サービス（独自） | W43: A2 | X43: =$F$43/C43 -> 0.59183673 | Y43: =$F$43/D43 -> 0.64732143 | Z43: =$F$43/E43 -> 0.7967033 | AA43: =$F$43/F43 -> 1 | AB43: =$L$43/G43 -> 0.62962963 | AC43: =$L$43/H43 -> 0.59233449 | AD43: =$L$43/I43 -> 0.68273092 | AE43: =$L$43/J43 -> 0.63909774 | AF43: =$L$43/K43 -> 0.82125604 | AG43: =$L$43/L43 -> 1 | AI43: 訪問型サービス（独自） | AJ43: 対象外 | AM43: 訪問型サービス（独自／定額） | AN43: 訪問型サービス_独自_定額_R8 | AO43: 申請時点でケアプランデータ連携システムを利用している | AP43: 申請後、ケアプランデータ連携システムに加入し、利用している | AQ43: 社会福祉連携推進法人に所属 | AR43: 申請時、令和８年度特例要件を満たすこととしていない
A44: 訪問型サービス（独自／定率） | B44: A3 | C44: 0.245 | D44: 0.224 | E44: 0.182 | F44: 0.145 | G44: 0.27 | H44: 0.287 | I44: 0.249 | J44: 0.266 | K44: 0.207 | L44: 0.17 | N44: 加算対象 | O44: 総合事業 | V44: 訪問型サービス（独自／定率） | W44: A3 | X44: =$F$44/C44 -> 0.59183673 | Y44: =$F$44/D44 -> 0.64732143 | Z44: =$F$44/E44 -> 0.7967033 | AA44: =$F$44/F44 -> 1 | AB44: =$L$44/G44 -> 0.62962963 | AC44: =$L$44/H44 -> 0.59233449 | AD44: =$L$44/I44 -> 0.68273092 | AE44: =$L$44/J44 -> 0.63909774 | AF44: =$L$44/K44 -> 0.82125604 | AG44: =$L$44/L44 -> 1 | AI44: 訪問型サービス（独自／定率） | AJ44: 対象外 | AM44: 通所型サービス（独自）（19人以上） | AN44: 通所型サービス_独自_19人以上_R8 | AO44: 申請時点でケアプランデータ連携システムを利用している | AP44: 申請後、ケアプランデータ連携システムに加入し、利用している | AQ44: 社会福祉連携推進法人に所属 | AR44: 申請時、令和８年度特例要件を満たすこととしていない
A45: 訪問型サービス（独自／定額） | B45: A4 | C45: 0.245 | D45: 0.224 | E45: 0.182 | F45: 0.145 | G45: 0.27 | H45: 0.287 | I45: 0.249 | J45: 0.266 | K45: 0.207 | L45: 0.17 | N45: 加算対象 | O45: 総合事業 | V45: 訪問型サービス（独自／定額） | W45: A4 | X45: =$F$45/C45 -> 0.59183673 | Y45: =$F$45/D45 -> 0.64732143 | Z45: =$F$45/E45 -> 0.7967033 | AA45: =$F$45/F45 -> 1 | AB45: =$L$45/G45 -> 0.62962963 | AC45: =$L$45/H45 -> 0.59233449 | AD45: =$L$45/I45 -> 0.68273092 | AE45: =$L$45/J45 -> 0.63909774 | AF45: =$L$45/K45 -> 0.82125604 | AG45: =$L$45/L45 -> 1 | AI45: 訪問型サービス（独自／定額） | AJ45: 対象外 | AM45: 通所型サービス（独自／定率）（19人以上） | AN45: 通所型サービス_独自_定率_19人以上_R8 | AO45: 申請時点でケアプランデータ連携システムを利用している | AP45: 申請後、ケアプランデータ連携システムに加入し、利用している | AQ45: 社会福祉連携推進法人に所属 | AR45: 申請時、令和８年度特例要件を満たすこととしていない
A46: 通所型サービス（独自）（19人以上） | B46: A6 | C46: 0.092 | D46: 0.09 | E46: 0.08 | F46: 0.064 | G46: 0.111 | H46: 0.12 | I46: 0.109 | J46: 0.118 | K46: 0.099 | L46: 0.083 | N46: 加算対象 | O46: 総合事業 | V46: 通所型サービス（独自）（19人以上） | W46: A6 | X46: =$F$46/C46 -> 0.69565217 | Y46: =$F$46/D46 -> 0.71111111 | Z46: =$F$46/E46 -> 0.8 | AA46: =$F$46/F46 -> 1 | AB46: =$L$46/G46 -> 0.74774775 | AC46: =$L$46/H46 -> 0.69166667 | AD46: =$L$46/I46 -> 0.76146789 | AE46: =$L$46/J46 -> 0.70338983 | AF46: =$L$46/K46 -> 0.83838384 | AG46: =$L$46/L46 -> 1 | AI46: 通所型サービス（独自）（19人以上） | AJ46: 対象外 | AM46: 通所型サービス（独自／定額）（19人以上） | AN46: 通所型サービス_独自_定額_19人以上_R8 | AO46: 申請時点でケアプランデータ連携システムを利用している | AP46: 申請後、ケアプランデータ連携システムに加入し、利用している | AQ46: 社会福祉連携推進法人に所属 | AR46: 申請時、令和８年度特例要件を満たすこととしていない
A47: 通所型サービス（独自／定率）（19人以上） | B47: A7 | C47: 0.092 | D47: 0.09 | E47: 0.08 | F47: 0.064 | G47: 0.111 | H47: 0.12 | I47: 0.109 | J47: 0.118 | K47: 0.099 | L47: 0.083 | N47: 加算対象 | O47: 総合事業 | V47: 通所型サービス（独自／定率）（19人以上） | W47: A7 | X47: =$F$47/C47 -> 0.69565217 | Y47: =$F$47/D47 -> 0.71111111 | Z47: =$F$47/E47 -> 0.8 | AA47: =$F$47/F47 -> 1 | AB47: =$L$47/G47 -> 0.74774775 | AC47: =$L$47/H47 -> 0.69166667 | AD47: =$L$47/I47 -> 0.76146789 | AE47: =$L$47/J47 -> 0.70338983 | AF47: =$L$47/K47 -> 0.83838384 | AG47: =$L$47/L47 -> 1 | AI47: 通所型サービス（独自／定率）（19人以上） | AJ47: 対象外 | AM47: 通所型サービス（独自）（19人未満） | AN47: 通所型サービス_独自_19人未満_R8 | AO47: 申請時点でケアプランデータ連携システムを利用している | AP47: 申請後、ケアプランデータ連携システムに加入し、利用している | AQ47: 社会福祉連携推進法人に所属 | AR47: 申請時、令和８年度特例要件を満たすこととしていない
A48: 通所型サービス（独自／定額）（19人以上） | B48: A8 | C48: 0.092 | D48: 0.09 | E48: 0.08 | F48: 0.064 | G48: 0.111 | H48: 0.12 | I48: 0.109 | J48: 0.118 | K48: 0.099 | L48: 0.083 | N48: 加算対象 | O48: 総合事業 | V48: 通所型サービス（独自／定額）（19人以上） | W48: A8 | X48: =$F$48/C48 -> 0.69565217 | Y48: =$F$48/D48 -> 0.71111111 | Z48: =$F$48/E48 -> 0.8 | AA48: =$F$48/F48 -> 1 | AB48: =$L$48/G48 -> 0.74774775 | AC48: =$L$48/H48 -> 0.69166667 | AD48: =$L$48/I48 -> 0.76146789 | AE48: =$L$48/J48 -> 0.70338983 | AF48: =$L$48/K48 -> 0.83838384 | AG48: =$L$48/L48 -> 1 | AI48: 通所型サービス（独自／定額）（19人以上） | AJ48: 対象外 | AM48: 通所型サービス（独自／定率）（19人未満） | AN48: 通所型サービス_独自_定率_19人未満_R8 | AO48: 申請時点でケアプランデータ連携システムを利用している | AP48: 申請後、ケアプランデータ連携システムに加入し、利用している | AQ48: 社会福祉連携推進法人に所属 | AR48: 申請時、令和８年度特例要件を満たすこととしていない
A49: 通所型サービス（独自）（19人未満） | B49: A6 | C49: 0.092 | D49: 0.09 | E49: 0.08 | F49: 0.064 | G49: 0.117 | H49: 0.127 | I49: 0.115 | J49: 0.125 | K49: 0.105 | L49: 0.089 | N49: 加算対象 | O49: 総合事業 | V49: 通所型サービス（独自）（19人未満） | W49: A6 | X49: =$F$49/C49 -> 0.69565217 | Y49: =$F$49/D49 -> 0.71111111 | Z49: =$F$49/E49 -> 0.8 | AA49: =$F$49/F49 -> 1 | AB49: =$L$49/G49 -> 0.76068376 | AC49: =$L$49/H49 -> 0.7007874 | AD49: =$L$49/I49 -> 0.77391304 | AE49: =$L$49/J49 -> 0.712 | AF49: =$L$49/K49 -> 0.84761905 | AG49: =$L$49/L49 -> 1 | AI49: 通所型サービス（独自）（19人未満） | AJ49: 対象外 | AM49: 通所型サービス（独自／定額）（19人未満） | AN49: 通所型サービス_独自_定額_19人未満_R8 | AO49: 申請時点でケアプランデータ連携システムを利用している | AP49: 申請後、ケアプランデータ連携システムに加入し、利用している | AQ49: 社会福祉連携推進法人に所属 | AR49: 申請時、令和８年度特例要件を満たすこととしていない
A50: 通所型サービス（独自／定率）（19人未満） | B50: A7 | C50: 0.092 | D50: 0.09 | E50: 0.08 | F50: 0.064 | G50: 0.117 | H50: 0.127 | I50: 0.115 | J50: 0.125 | K50: 0.105 | L50: 0.089 | N50: 加算対象 | O50: 総合事業 | V50: 通所型サービス（独自／定率）（19人未満） | W50: A7 | X50: =$F$50/C50 -> 0.69565217 | Y50: =$F$50/D50 -> 0.71111111 | Z50: =$F$50/E50 -> 0.8 | AA50: =$F$50/F50 -> 1 | AB50: =$L$50/G50 -> 0.76068376 | AC50: =$L$50/H50 -> 0.7007874 | AD50: =$L$50/I50 -> 0.77391304 | AE50: =$L$50/J50 -> 0.712 | AF50: =$L$50/K50 -> 0.84761905 | AG50: =$L$50/L50 -> 1 | AI50: 通所型サービス（独自／定率）（19人未満） | AJ50: 対象外 | AM50: 介護予防ケアマネジメント | AN50: 介護予防ケアマネジメントR8 | AO50: 申請時点でケアプランデータ連携システムを利用している | AP50: 申請後、ケアプランデータ連携システムに加入し、利用している | AQ50: 社会福祉連携推進法人に所属 | AR50: 申請時、令和８年度特例要件を満たすこととしていない
A51: 通所型サービス（独自／定額）（19人未満） | B51: A8 | C51: 0.092 | D51: 0.09 | E51: 0.08 | F51: 0.064 | G51: 0.117 | H51: 0.127 | I51: 0.115 | J51: 0.125 | K51: 0.105 | L51: 0.089 | N51: 加算対象 | O51: 総合事業 | V51: 通所型サービス（独自／定額）（19人未満） | W51: A8 | X51: =$F$51/C51 -> 0.69565217 | Y51: =$F$51/D51 -> 0.71111111 | Z51: =$F$51/E51 -> 0.8 | AA51: =$F$51/F51 -> 1 | AB51: =$L$51/G51 -> 0.76068376 | AC51: =$L$51/H51 -> 0.7007874 | AD51: =$L$51/I51 -> 0.77391304 | AE51: =$L$51/J51 -> 0.712 | AF51: =$L$51/K51 -> 0.84761905 | AG51: =$L$51/L51 -> 1 | AI51: 通所型サービス（独自／定額）（19人未満） | AJ51: 対象外 | AM51: 訪問看護 | AN51: 訪問看護R8 | AO51: 申請時点でケアプランデータ連携システムを利用している | AP51: 申請後、ケアプランデータ連携システムに加入し、利用している | AQ51: 社会福祉連携推進法人に所属 | AR51: 申請時、令和８年度特例要件を満たすこととしていない
A52: 介護予防ケアマネジメント | B52: AF | C52: 0 | D52: 0 | E52: 0 | F52: 0 | M52: 0.021 | N52: 加算対象外 | O52: 総合事業 | AM52: 介護予防訪問看護 | AN52: 介護予防訪問看護R8 | AO52: 申請時点でケアプランデータ連携システムを利用している | AP52: 申請後、ケアプランデータ連携システムに加入し、利用している | AQ52: 社会福祉連携推進法人に所属 | AR52: 申請時、令和８年度特例要件を満たすこととしていない
A53: 訪問看護 | B53: 13 | C53: 0 | D53: 0 | E53: 0 | F53: 0 | M53: 0.018 | N53: 加算対象外 | O53: その他 | AM53: 訪問リハビリテーション | AN53: 訪問リハビリテーションR8 | AO53: 申請時点でケアプランデータ連携システムを利用している | AP53: 申請後、ケアプランデータ連携システムに加入し、利用している | AQ53: 社会福祉連携推進法人に所属 | AR53: 申請時、令和８年度特例要件を満たすこととしていない
A54: 介護予防訪問看護 | B54: 63 | C54: 0 | D54: 0 | E54: 0 | F54: 0 | M54: 0.018 | N54: 加算対象外 | O54: 介護予防 | AM54: 介護予防訪問リハビリテーション | AN54: 介護予防訪問リハビリテーションR8 | AO54: 申請時点でケアプランデータ連携システムを利用している | AP54: 申請後、ケアプランデータ連携システムに加入し、利用している | AQ54: 社会福祉連携推進法人に所属 | AR54: 申請時、令和８年度特例要件を満たすこととしていない
A55: 訪問リハビリテーション | B55: 14 | C55: 0 | D55: 0 | E55: 0 | F55: 0 | M55: 0.015 | N55: 加算対象外 | O55: その他 | AM55: 居宅介護支援 | AN55: 居宅介護支援R8 | AO55: 申請時点でケアプランデータ連携システムを利用している | AP55: 申請後、ケアプランデータ連携システムに加入し、利用している | AQ55: 社会福祉連携推進法人に所属 | AR55: 申請時、令和８年度特例要件を満たすこととしていない
A56: 介護予防訪問リハビリテーション | B56: 64 | C56: 0 | D56: 0 | E56: 0 | F56: 0 | M56: 0.015 | N56: 加算対象外 | O56: 介護予防 | AM56: 介護予防支援 | AN56: 介護予防支援R8 | AO56: 申請時点でケアプランデータ連携システムを利用している | AP56: 申請後、ケアプランデータ連携システムに加入し、利用している | AQ56: 社会福祉連携推進法人に所属 | AR56: 申請時、令和８年度特例要件を満たすこととしていない
A57: 居宅介護支援 | B57: 43 | C57: 0 | D57: 0 | E57: 0 | F57: 0 | M57: 0.021 | N57: 加算対象外 | O57: その他
A58: 介護予防支援 | B58: 46 | C58: 0 | D58: 0 | E58: 0 | F58: 0 | M58: 0.021 | N58: 加算対象外 | O58: 介護予防

Sheet 【参考】数式用2
A1: 事業所の所在地（都道府県） | C1: 事業所の所在地（市区町村）
A2: 都道府県 | C2: 都道府県 | D2: 市区町村
A3: 北海道 | C3: 北海道 | D3: 札幌市
A4: 青森県 | C4: 北海道 | D4: 函館市
A5: 岩手県 | C5: 北海道 | D5: 小樽市
A6: 宮城県 | C6: 北海道 | D6: 旭川市
A7: 秋田県 | C7: 北海道 | D7: 室蘭市
A8: 山形県 | C8: 北海道 | D8: 釧路市
A9: 福島県 | C9: 北海道 | D9: 帯広市
A10: 茨城県 | C10: 北海道 | D10: 北見市
A11: 栃木県 | C11: 北海道 | D11: 夕張市
A12: 群馬県 | C12: 北海道 | D12: 岩見沢市
A13: 埼玉県 | C13: 北海道 | D13: 網走市
... A49: 沖縄県 | C49: 北海道 | D49: 江差町
C50: 北海道 | D50: 上ノ国町
C51: 北海道 | D51: 厚沢部町
C52: 北海道 | D52: 乙部町
C53: 北海道 | D53: 奥尻町
C54: 北海道 | D54: 今金町
C55: 北海道 | D55: せたな町
C56: 北海道 | D56: 島牧村
C57: 北海道 | D57: 寿都町
C58: 北海道 | D58: 黒松内町
C59: 北海道 | D59: 蘭越町
C60: 北海道 | D60: ニセコ町
C61: 北海道 | D61: 真狩村
... C1749: 沖縄県 | D1749: 与那国町
